Workbook
Name _Hlk49258763: คำขอขนส่ง!$A$21

Sheet ไปรณีย์ตอบรับ
A1: ไปรษณีย์ตอบรับ//ซองจดหมายตีกลับ
C2: Customer Name : | E2: =#REF! -> #REF!
C3: CIF No. : | E3: =#REF! -> #REF!
A37: ไปรษณีย์ตอบรับ//ซองจดหมายตีกลับ
C38: Customer Name : | E38: =#REF! -> #REF!
C39: CIF No. : | E39: =#REF! -> #REF!

Sheet ปกสำนวน
A4: ศาล | E4: =#REF! -> #REF!
A5: หมายเลขคดีดำ | E5: =#REF! -> #REF! | Y5: =#REF! -> #REF!
A6: หมายเลขคดีแดง
S7: นายจิรวัฒน์ ตรีเศียร
C8: ธนาคารอิสลามแห่งประเทศไทย โดย นายจิรวัฒน์ ตรีเศียร ผู้รับมอบอำนาจช่วง | Q8: โจทก์
A9: ระหว่าง | S9: ID TAG :
C10: นางสาวสิริพิชญ์ ใจหมั่น | Q10: จำเลย | S10: s | T10: =#REF! -> #REF!
S11: วันที่ฟ้องคดี :
S12: s | T12: =#REF! -> #REF!
A13: ข้อหา / ฐานความผิด | F13: ผิดสัญญาสินเชื่ออเนกประสงค์,สัญญาค้ำประกัน,เรียกค่าเสียหาย | X13: =#REF! -> #REF!
U14: =#REF! -> #REF! | Y14: บาท
A15: กำหนดวันนัดสืบพยาน
B16: 1.) | C16: นัดไกล่เกลี่ย / นัดสืบพยาน | I16: วันที่ | J16: =#REF! -> #REF! | O16: เวลา | P16: =#REF! -> #REF! | R16: ผลคดี
B17: 2.) | I17: วันที่ | O17: เวลา | R17: ผลคดี
B18: 3.) | I18: วันที่ | O18: เวลา | R18: ผลคดี
B19: 4.) | I19: วันที่ | O19: เวลา | R19: ผลคดี
A21: รายการเอกสาร
A22: þ | B22: þ | C22: สัญญาสินเชื่ออเนกประสงค์ / หาบเร่แผงลอย | N22: þ | O22: ตราสารทรัพย์สิน บัยอ์ อัล อีนะฮ์
A23: ¨ | B23: ¨ | C23: สัญญาค้ำประกัน | N23: þ | O23: สัญญาขายทรัพย์สิน / เสนอขายทรัพย์สิน
B24: þ | C24: อากรแสตมป์ / อส.4 ข | N24: þ | O24: รายการคำนวณยอดหนี้ / ตารางภาระหนี้
B25: þ | C25: สำเนาบัตรประจำตัวประชาชน / ทะเบียนบ้าน | N25: þ | O25: หนังสือแจ้งให้ชำระหนี้ / ไปรษณีย์ตอบรับ
B26: þ | C26: แบบรับรองทะเบียนราษฏร์ | N26: ¨ | O26: สัญญาจำนอง / โฉนดที่ดิน
B27: ¨ | C27: อื่นๆ | N27: ¨ | O27: อื่นๆ
A29: บันทึกการดำเนินคดี
A30: m | B30: คัดคำพิพากษาวันที่
A31: m | B31: คัดคำพิพากษาตามยาม + สัญญายอม / รายงาน บอกกล่าว (ถอนฟ้อง) วันที่
A32: m | B32: ส่งหมายเรียกวันที่ | J32: ผลหมายเรียก | O32: ส่งได้โดย | T32: m | U32: ส่งไม่ได้
A33: m | B33: ส่งคำบังคับวันที่ | J33: ผลการส่งคำบังคับ | O33: ส่งได้โดย | T33: m | U33: ส่งไม่ได้
A35: ครบอุทธรณ์ครั้งที่ 1 | L35: ขอหมายบังคับคดี
A36: ครบอุทธรณ์ครั้งที่ 2 | L36: ขอรับค่าธรรมเนียมศาลคืน / รับเช็ค วันที่
A37: ครบอุทธรณ์ครั้งที่ 3 | L37: วันที่คัดหมายฯ / บัญชีค่าฤชาธรรมเนียม
A38: ครบอุทธรณ์ครั้งที่ 4 | L38: อื่นฯ

Sheet Sheet1
H1: j | I1: 2934
A2: ชื่อลูกหนี้ | B2: {=_xlfn.IFS(I1<850,VLOOKUP(I1,[1]บังคับคดี!$B:$ZZ,60,0),AND(I1>=850,I1<1435),VLOOKUP(I1,'[1]บังคับคดีใหม่ ปี2563-2564'!$B:$ZZ,63,0),I1>=1435,VLOOKUP(I1,'[1]สืบทรัพย์ ปี 2564-25666'!$B:$ZZ,71,0))} -> นางสาวอนิสา สุวาท | C2: สาขา | D2: {=_xlfn.IFS(I1<850,VLOOKUP(I1,[1]บังคับคดี!$B:$ZZ,10,0),AND(I1>=850,I1<1435),VLOOKUP(I1,'[1]บังคับคดีใหม่ ปี2563-2564'!$B:$ZZ,11,0),I1>=1435,VLOOKUP(I1,'[1]สืบทรัพย์ ปี 2564-25666'!$B:$ZZ,11,0))} -> ช้างม่อย | E2: kสืบรอบที่ | F2: 1
A3: สินเชื่อ | B3: {=_xlfn.IFS(I1<850,VLOOKUP(I1,[1]บังคับคดี!$B:$ZZ,13,0),AND(I1>=850,I1<1435),VLOOKUP(I1,'[1]บังคับคดีใหม่ ปี2563-2564'!$B:$ZZ,14,0),I1>=1435,VLOOKUP(I1,'[1]สืบทรัพย์ ปี 2564-25666'!$B:$ZZ,14,0))} -> สินเชื่อธนาคารประชาชน , สินเชื่อแก้ไขปัญหาหนี้นอกระบบ PSA ระยะที่ 2 | C3: Legal ID | D3: {=_xlfn.IFS(I1<850,VLOOKUP(I1,[1]บังคับคดี!$B:$ZZ,59,0),AND(I1>=850,I1<1435),VLOOKUP(I1,'[1]บังคับคดีใหม่ ปี2563-2564'!$B:$ZZ,64,0),I1>=1435,VLOOKUP(I1,'[1]สืบทรัพย์ ปี 2564-25666'!$B:$ZZ,72,0))} -> 883165010780 | E3: lวันที่สั่งงาน
A4: เลขที่สัญญากู้ | B4: {=_xlfn.IFS(I1<850,VLOOKUP(I1,[1]บังคับคดี!$B:$ZZ,5,0),AND(I1>=850,I1<1435),VLOOKUP(I1,'[1]บังคับคดีใหม่ ปี2563-2564'!$B:$ZZ,6,0),I1>=1435,VLOOKUP(I1,'[1]สืบทรัพย์ ปี 2564-25666'!$B:$ZZ,6,0))} -> 800096180511 , 800120257202 | C4: mวันที่พิพากษา | D4: 243361 | E4: วันที่ทำสัญญา | I4: ทางลัดไปดาต้า
A5: ศาล | B5: {=_xlfn.IFS(I1<850,VLOOKUP(I1,[1]บังคับคดี!$B:$ZZ,17,0),AND(I1>=850,I1<1435),VLOOKUP(I1,'[1]บังคับคดีใหม่ ปี2563-2564'!$B:$ZZ,18,0),I1>=1435,VLOOKUP(I1,'[1]สืบทรัพย์ ปี 2564-25666'!$B:$ZZ,18,0))} -> แขวงเชียงใหม่ | C5: หมายเลขคดีดำ | D5: {=CONCATENATE(_xlfn.IFS(I1<850,VLOOKUP(I1,[1]บังคับคดี!$B:$ZZ,18,0),AND(I1>=850,I1<1435),VLOOKUP(I1,'[1]บังคับคดีใหม่ ปี2563-2564'!$B:$ZZ,19,0),I1>=1435,VLOOKUP(I1,'[1]สืบทรัพย์ ปี 2564-25666'!$B:$ZZ,19,0)),"/",_xlfn.IFS(I1<850,VLOOKUP(I1,[1]บังคับคดี!$B:$ZZ,19,0),AND(I1>=850,I1<1435),VLOOKUP(I1,'[1]บังคับคดีใหม่ ปี2563-2564'!$B:$ZZ,20,0),I1>=1435,VLOOKUP(I1,'[1]สืบทรัพย์ ปี 2564-25666'!$B:$ZZ,20,0)))} -> ผบE372/2566 | E5: หมายเลขคดีแดง | F5: {=CONCATENATE(_xlfn.IFS(I1<850,VLOOKUP(I1,[1]บังคับคดี!$B:$ZZ,20,0),AND(I1>=850,I1<1435),VLOOKUP(I1,'[1]บังคับคดีใหม่ ปี2563-2564'!$B:$ZZ,21,0),I1>=1435,VLOOKUP(I1,'[1]สืบทรัพย์ ปี 2564-25666'!$B:$ZZ,21,0)),"/",_xlfn.IFS(I1<850,VLOOKUP(I1,[1]บังคับคดี!$B:$ZZ,21,0),AND(I1>=850,I1<1435),VLOOKUP(I1,'[1]บังคับคดีใหม่ ปี2563-2564'!$B:$ZZ,22,0),I1>=1435,VLOOKUP(I1,'[1]สืบทรัพย์ ปี 2564-25666'!$B:$ZZ,22,0)))} -> ผบE2145/2566 | I5: ทางลัดไปหน้ารายงาน
A6: ยอดหนี้ตามคำพิพากษา | B6: 86079.87 | C6: บาท วันที่ทำรายงาน | D6: 244236
A8: ผู้ดำเนินการสืบที่ดิน | B8: นายปฏิยุทธ์ ฟองแก้ว | C8: อายุ | D8: 28 | E8: เลขบัตรประชาชน | F8: 1560100415109
A9: วันที่ได้รับมอบอำนาจ | B9: 243912
B10: 2 | C10: 3 | D10: 4 | E10: 5 | F10: 6 | G10: 7 | H10: 8 | I10: 9 | J10: 10 | K10: 11 | L10: 12 | M10: 13 | N10: 14 | O10: 15 | P10: 16 | Q10: 17 | R10: 18 | S10: 19 | T10: 20 | U10: 21
A11: สถานะ | B11: q ชื่อ | C11: เลขบัตร | D11: Column5 | E11: ภูมิลำเนาแต่กำเนิด | F11: Column4 | G11: ภูมิลำเนาปัจจุบัน2 | H11: Column6 | I11: ขณะทำสัญญา | J11: Column2 | K11: ที่จดทะเบียนสมรส | L11: Column7 | M11: ที่จดทะเบียนหย่า | N11: Column1 | O11: สถานที่ทำสัญญา | P11: Column3 | Q11: ตามคำขอกู้ | R11: ที่ดิน (พบ / ไม่พบ) | S11: ทรัพย์ที่สืบพบ | T11: ราคาประเมิน | U11: ขนส่ง (พบ / ไม่พบ) | W11: วิธีใช้
A12: =IF(B14="","จำเลย","จำเลยที่ 1") -> จำเลยที่ 1 | B12: นางสาวอนิสา สุวาท | C12: 1-5099-01227-52-0 | G12: อ.สันทราย | I12: อ.สันทราย | O12: อ.เมืองเชียงใหม่ | Q12: อ.สันทราย | R12: =IF(OR(Table1[[#This Row],[q ชื่อ]]="",Table1[[#This Row],[q ชื่อ]]="-"),"",IF(COUNTIF(Table1[[#This Row],[Column5]:[Column3]],1)>0,"พบ","ไม่พบ")) -> ไม่พบ | S12: - | W12: 1. ใส่เลขแฟ้มในช่องสีส้ม (หากข้อมูลไม่ขึ้นให้ไปที่เมนู Data >> Workbook Links >> Refresh all >> … >> Chamge source >> กดเลือกดาต้า
A13: =IF(B14="","คู่สมรส","คู่สมรสจำเลยที่ 1") -> คู่สมรสจำเลยที่ 1 | B13: - | R13: =IF(OR(Table1[[#This Row],[q ชื่อ]]="",Table1[[#This Row],[q ชื่อ]]="-"),"",IF(COUNTIF(Table1[[#This Row],[Column5]:[Column3]],1)>0,"พบ","ไม่พบ")) | S13: -
A14: จำเลยที่ 2 | B14: นางสาววราภรณ์ พรมสอาด | C14: 1-6001-00474-62-7 | E14: อ.เมืองนครสวรรค์ | G14: อ.อุดทัย | I14: อ.หางดง | K14: อ.คลองหลวง | M14: อ.เมืองปทุมธานี | O14: อ.เมืองเชียงใหม่ | Q14: อ.หางดง | R14: =IF(OR(Table1[[#This Row],[q ชื่อ]]="",Table1[[#This Row],[q ชื่อ]]="-"),"",IF(COUNTIF(Table1[[#This Row],[Column5]:[Column3]],1)>0,"พบ","ไม่พบ")) -> ไม่พบ | S14: - | W14: 2. เลือกว่าสืบรอบไหน
A15: คู่สมรสจำเลยที่ 2 | B15: - | R15: =IF(OR(Table1[[#This Row],[q ชื่อ]]="",Table1[[#This Row],[q ชื่อ]]="-"),"",IF(COUNTIF(Table1[[#This Row],[Column5]:[Column3]],1)>0,"พบ","ไม่พบ")) | W15: 3. ลงวันที่สั่งงาน
A16: จำเลยที่ 3 | B16: นายอัครพล ยิ้มเกียรติ์ | C16: 1-5306-00028-21-0 | E16: อ.บ้านโคก | G16: อ.เมืองปทุมธานี | I16: อ.บ้านโคก | K16: อ.คลองหลวง | M16: อ.เมืองปทุมธานี | O16: อ.เมืองเชียงใหม่ | Q16: อ.บ้านโคก | R16: =IF(OR(Table1[[#This Row],[q ชื่อ]]="",Table1[[#This Row],[q ชื่อ]]="-"),"",IF(COUNTIF(Table1[[#This Row],[Column5]:[Column3]],1)>0,"พบ","ไม่พบ")) -> ไม่พบ | S16: - | W16: 4. ลงวันที่พิพากษา
A17: คู่สมรสจำเลยที่ 3 | B17: - | R17: =IF(OR(Table1[[#This Row],[q ชื่อ]]="",Table1[[#This Row],[q ชื่อ]]="-"),"",IF(COUNTIF(Table1[[#This Row],[Column5]:[Column3]],1)>0,"พบ","ไม่พบ")) | W17: 5. ลงวันที่ทำสัญญา
A18: จำเลยที่ 4 | R18: =IF(OR(Table1[[#This Row],[q ชื่อ]]="",Table1[[#This Row],[q ชื่อ]]="-"),"",IF(COUNTIF(Table1[[#This Row],[Column5]:[Column3]],1)>0,"พบ","ไม่พบ")) | W18: 6. ลงทุนทรัพย์ที่ศาลพิพากษา
A19: คู่สมรสจำเลยที่ 4 | R19: =IF(OR(Table1[[#This Row],[q ชื่อ]]="",Table1[[#This Row],[q ชื่อ]]="-"),"",IF(COUNTIF(Table1[[#This Row],[Column5]:[Column3]],1)>0,"พบ","ไม่พบ")) | W19: 7. ลงจำเลยและคู่สมรส
A20: จำเลยที่ 5 | R20: =IF(OR(Table1[[#This Row],[q ชื่อ]]="",Table1[[#This Row],[q ชื่อ]]="-"),"",IF(COUNTIF(Table1[[#This Row],[Column5]:[Column3]],1)>0,"พบ","ไม่พบ"))
A21: คู่สมรสจำเลยที่ 5 | R21: =IF(OR(Table1[[#This Row],[q ชื่อ]]="",Table1[[#This Row],[q ชื่อ]]="-"),"",IF(COUNTIF(Table1[[#This Row],[Column5]:[Column3]],1)>0,"พบ","ไม่พบ"))
A22: จำเลยที่ 6 | R22: =IF(OR(Table1[[#This Row],[q ชื่อ]]="",Table1[[#This Row],[q ชื่อ]]="-"),"",IF(COUNTIF(Table1[[#This Row],[Column5]:[Column3]],1)>0,"พบ","ไม่พบ")) | W22: สำหรับตั้งชื่อ
A23: คู่สมรสจำเลยที่ 6 | R23: =IF(OR(Table1[[#This Row],[q ชื่อ]]="",Table1[[#This Row],[q ชื่อ]]="-"),"",IF(COUNTIF(Table1[[#This Row],[Column5]:[Column3]],1)>0,"พบ","ไม่พบ")) | W23: =CONCATENATE(I1," - รายงานผลสืบทรัพย์ ราย ",B2," ",C2,D2," (สืบรอบที่ ",F2,")") -> 2934 - รายงานผลสืบทรัพย์ ราย นางสาวอนิสา สุวาท สาขาช้างม่อย (สืบรอบที่ 1)
A24: จำเลยที่ 7 | R24: =IF(OR(Table1[[#This Row],[q ชื่อ]]="",Table1[[#This Row],[q ชื่อ]]="-"),"",IF(COUNTIF(Table1[[#This Row],[Column5]:[Column3]],1)>0,"พบ","ไม่พบ"))
A25: คู่สมรสจำเลยที่ 7 | R25: =IF(OR(Table1[[#This Row],[q ชื่อ]]="",Table1[[#This Row],[q ชื่อ]]="-"),"",IF(COUNTIF(Table1[[#This Row],[Column5]:[Column3]],1)>0,"พบ","ไม่พบ"))
A26: จำเลยที่ 8 | R26: =IF(OR(Table1[[#This Row],[q ชื่อ]]="",Table1[[#This Row],[q ชื่อ]]="-"),"",IF(COUNTIF(Table1[[#This Row],[Column5]:[Column3]],1)>0,"พบ","ไม่พบ"))
A27: คู่สมรสจำเลยที่ 8 | R27: =IF(OR(Table1[[#This Row],[q ชื่อ]]="",Table1[[#This Row],[q ชื่อ]]="-"),"",IF(COUNTIF(Table1[[#This Row],[Column5]:[Column3]],1)>0,"พบ","ไม่พบ"))
A28: จำเลยที่ 9 | R28: =IF(OR(Table1[[#This Row],[q ชื่อ]]="",Table1[[#This Row],[q ชื่อ]]="-"),"",IF(COUNTIF(Table1[[#This Row],[Column5]:[Column3]],1)>0,"พบ","ไม่พบ"))
A29: คู่สมรสจำเลยที่ 9 | R29: =IF(OR(Table1[[#This Row],[q ชื่อ]]="",Table1[[#This Row],[q ชื่อ]]="-"),"",IF(COUNTIF(Table1[[#This Row],[Column5]:[Column3]],1)>0,"พบ","ไม่พบ"))
A30: จำเลยที่ 10 | R30: =IF(OR(Table1[[#This Row],[q ชื่อ]]="",Table1[[#This Row],[q ชื่อ]]="-"),"",IF(COUNTIF(Table1[[#This Row],[Column5]:[Column3]],1)>0,"พบ","ไม่พบ"))
A31: คู่สมรสจำเลยที่ 10 | R31: =IF(OR(Table1[[#This Row],[q ชื่อ]]="",Table1[[#This Row],[q ชื่อ]]="-"),"",IF(COUNTIF(Table1[[#This Row],[Column5]:[Column3]],1)>0,"พบ","ไม่พบ"))
A33: เลือกยึด | D33: ราคาประเมิน | F33: บาท

Sheet รายงานผลสืบทรัพย์
AL1: =YEAR(Sheet1!D6) -> 2568
A2: =CONCATENATE("รายงานการสืบทรัพย์ (ข้อมูล ณ วันที่ ",TEXT(Sheet1!D6,"d ดดดด yyyy"),")") -> รายงานการสืบทรัพย์ (ข้อมูล ณ วันที่ 9 กันยายน 2568)
A4: ลูกหนี้ราย | E4: =Sheet1!B2 -> นางสาวอนิสา สุวาท | U4: สาขา | W4: =Sheet1!D2 -> ช้างม่อย | AL4: สำหรับตั้งชื่อ | AM4: 2934(68) - รายงานผลสืบทรัพย์ ราย นางสาวอนิสา สุวาท สาขาช้างม่อย (สืบรอบที่ 1) - ไม่พบทรัพย์ | AO4: ข้อครวระวัง
A5: สินเชื่อ | D5: =Sheet1!B3 -> สินเชื่อธนาคารประชาชน , สินเชื่อแก้ไขปัญหาหนี้นอกระบบ PSA ระยะที่ 2 | S5: Legal ID | W5: =IF(OR(Sheet1!D3=0,Sheet1!D3="-"),"-",Sheet1!D3) -> 883165010780 | AL5: =CONCATENATE(Sheet1!I1,"(",RIGHT(AL1,2),") - รายงานผลสืบทรัพย์ ราย ",Sheet1!B2," ",Sheet1!C2,Sheet1!D2," (สืบรอบที่ ",Sheet1!F2,")",IF(Sheet1!B33=""," - ไม่พบทรัพย์","")) -> 2934(68) - รายงานผลสืบทรัพย์ ราย นางสาวอนิสา สุวาท สาขาช้างม่อย (สืบรอบที่ 1) - ไม่พบทรัพย์ | AO5: 1. มีการซ่อนช่อง (ให้ตรวจสอบทุกครั้งว่าข้อมูลครบมั้ย กำหนดจำเลยมากสุด 10 คน)
A6: เลขที่สัญญากู้ | F6: =Sheet1!B4 -> 800096180511 , 800120257202 | AL6: ** | AO6: 2. หากพบทรัพย์เยอะให้ขยายช่องเอง
A7: ศาล | C7: =Sheet1!B5 -> แขวงเชียงใหม่ | K7: คดีหมายเลขดำที่ | Q7: =Sheet1!D5 -> ผบE372/2566 | X7: คดีหมายเลขแดงที่ | AD7: =Sheet1!F5 -> ผบE2145/2566
B9: =Sheet1!A12 -> จำเลยที่ 1 | F9: =Sheet1!B12 -> นางสาวอนิสา สุวาท | S9: =Sheet1!A13 -> คู่สมรสจำเลยที่ 1 | Y9: =Sheet1!B13 -> - | AO9: วิธีใช้
B10: จำเลยที่ 2 | F10: =Sheet1!B14 -> นางสาววราภรณ์ พรมสอาด | S10: คู่สมรสจำเลยที่ 2 | Y10: =Sheet1!B15 -> - | AO10: 1. ลงข้อมูลใน Sheet 1 ให้ครบถ้วน
B11: จำเลยที่ 3 | F11: =Sheet1!B16 -> นายอัครพล ยิ้มเกียรติ์ | S11: คู่สมรสจำเลยที่ 3 | Y11: =Sheet1!B17 -> - | AO11: 2. ซ่อนช่องที่มีตัวหนังสือสีแดง
B12: จำเลยที่ 4 | F12: =Sheet1!B18 -> 0 | S12: คู่สมรสจำเลยที่ 4 | Y12: =Sheet1!B19 -> 0
B13: จำเลยที่ 5 | F13: =Sheet1!B20 -> 0 | S13: คู่สมรสจำเลยที่ 5 | Y13: =Sheet1!B21 -> 0
B14: จำเลยที่ 6 | F14: =Sheet1!B22 -> 0 | S14: คู่สมรสจำเลยที่ 6 | Y14: =Sheet1!B23 -> 0
B15: จำเลยที่ 7 | F15: =Sheet1!B24 -> 0 | S15: คู่สมรสจำเลยที่ 7 | Y15: =Sheet1!B25 -> 0
B16: จำเลยที่ 8 | F16: =Sheet1!B26 -> 0 | S16: คู่สมรสจำเลยที่ 8 | Y16: =Sheet1!B27 -> 0
B17: จำเลยที่ 9 | F17: =Sheet1!B28 -> 0 | S17: คู่สมรสจำเลยที่ 9 | Y17: =Sheet1!B29 -> 0
B18: จำเลยที่ 10 | F18: =Sheet1!B30 -> 0 | S18: คู่สมรสจำเลยที่ 10 | Y18: =Sheet1!B31 -> 0
A20: ลูกหนี้ | G20: ผลสืบ | T20: ผลสืบ | X20: รายละเอียดทรัพย์ที่สืบพบ
A21: =IF(OR(F9=0,F9="-"),"ซ่อนช่อง",B9) -> จำเลยที่ 1 | G21: =CONCATENATE("1. สำนักงานที่ดิน ดังนี้",CHAR(10), "- ณ ภูมิลำเนาแต่กำเนิด : ",IF(VLOOKUP(A21,Table1[#All],5,0)="","-",VLOOKUP(A21,Table1[#All],5,0)),CHAR(10), "- ณ ภูมิลำเนาปัจจุบัน : ",IF(VLOOKUP(A21,Table1[#All],7,0)="","-",VLOOKUP(A21,Table1[#All],7,0)),CHAR(10), "- ขณะทำสัญญา : ",IF(VLOOKUP(A21,Table1[#All],9,0)="","-",VLOOKUP(A21,Table1[#All],9,0)),CHAR(10), "- ที่จดทะเบียนสมรส : ",IF(VLOOKUP(A21,Table1[#All],11,0)="","-",VLOOKUP(A21,Table1[#All],11,0)),CHAR(10), "- ที่จดทะเบียนหย่า : ",IF(VLOOKUP(A21,Table1[#All],13,0)="","-",VLOOKUP(A21,Table1[#All],13,0)),CHAR(10), "- สถานที่ทำสัญญา : ",IF(VLOOKUP(A21,Table1[#All],15,0)="","-",VLOOKUP(A21,Table1[#All],15,0)),CHAR(10), "- ตามคำขอกู้ : ",IF(VLOOKUP(A21,Table1[#All],17,0)="","-",VLOOKUP(A21,Table1[#All],17,0))) -> 1. สำนักงานที่ดิน ดังนี้ - ณ ภูมิลำเนาแต่กำเนิด : - - ณ ภูมิลำเนาปัจจุบัน : อ.สันทราย - ขณะทำสัญญา : อ.สันทราย - ที่จดทะเบียนสมรส : - - ที่จดทะเบียนหย่า : - - สถานที่ทำสัญญา : อ.เมืองเชียงใหม่ - ตามคำขอกู้ : อ.สันทราย | T21: =CONCATENATE(CHAR(10), IF(OR(VLOOKUP(A21,Table1[#All],5,0)="-",VLOOKUP(A21,Table1[#All],5,0)=""),"-",IF(VLOOKUP(A21,Table1[#All],4,0)=1,"พบ","ไม่พบ")),CHAR(10), IF(OR(VLOOKUP(A21,Table1[#All],7,0)="-",VLOOKUP(A21,Table1[#All],7,0)=""),"-",IF(VLOOKUP(A21,Table1[#All],6,0)=1,"พบ","ไม่พบ")),CHAR(10), IF(OR(VLOOKUP(A21,Table1[#All],9,0)="-",VLOOKUP(A21,Table1[#All],9,0)=""),"-",IF(VLOOKUP(A21,Table1[#All],8,0)=1,"พบ","ไม่พบ")),CHAR(10), IF(OR(VLOOKUP(A21,Table1[#All],11,0)="-",VLOOKUP(A21,Table1[#All],11,0)=""),"-",IF(VLOOKUP(A21,Table1[#All],10,0)=1,"พบ","ไม่พบ")),CHAR(10), IF(OR(VLOOKUP(A21,Table1[#All],13,0)="-",VLOOKUP(A21,Table1[#All],13,0)=""),"-",IF(VLOOKUP(A21,Table1[#All],12,0)=1,"พบ","ไม่พบ")),CHAR(10), IF(OR(VLOOKUP(A21,Table1[#All],15,0)="-",VLOOKUP(A21,Table1[#All],15,0)=""),"-",IF(VLOOKUP(A21,Table1[#All],14,0)=1,"พบ","ไม่พบ")),CHAR(10), IF(OR(VLOOKUP(A21,Table1[#All],17,0)="-",VLOOKUP(A21,Table1[#All],17,0)=""),"-",IF(VLOOKUP(A21,Table1[#All],16,0)=1,"พบ","ไม่พบ")),CHAR(10)) -> - ไม่พบ ไม่พบ - - ไม่พบ ไม่พบ | X21: =CONCATENATE(CHAR(10),IF(OR(VLOOKUP(A21,Table1[#All],18,0)="ไม่พบ",VLOOKUP(A21,Table1[#All],18,0)="-"),"-",VLOOKUP(A21,Table1[#All],19,0))) -> -
G22: 2. สำนักงานขนส่ง | U22: =IF(Sheet1!U12="พบ","R","£") -> £ | W22: พบ | AB22: =IF(Sheet1!U12="ไม่พบ","R","£") -> £ | AD22: ไม่พบ
A23: =IF(OR(Y9=0,Y9="-"),"ซ่อนช่อง",S9) -> ซ่อนช่อง | G23: =CONCATENATE("1. สำนักงานที่ดิน ดังนี้",CHAR(10), "- ณ ภูมิลำเนาแต่กำเนิด : ",IF(VLOOKUP(A23,Table1[#All],5,0)="","-",VLOOKUP(A23,Table1[#All],5,0)),CHAR(10), "- ณ ภูมิลำเนาปัจจุบัน : ",IF(VLOOKUP(A23,Table1[#All],7,0)="","-",VLOOKUP(A23,Table1[#All],7,0)),CHAR(10), "- ขณะทำสัญญา : ",IF(VLOOKUP(A23,Table1[#All],9,0)="","-",VLOOKUP(A23,Table1[#All],9,0)),CHAR(10), "- ที่จดทะเบียนสมรส : ",IF(VLOOKUP(A23,Table1[#All],11,0)="","-",VLOOKUP(A23,Table1[#All],11,0)),CHAR(10), "- ที่จดทะเบียนหย่า : ",IF(VLOOKUP(A23,Table1[#All],13,0)="","-",VLOOKUP(A23,Table1[#All],13,0)),CHAR(10), "- สถานที่ทำสัญญา : ",IF(VLOOKUP(A23,Table1[#All],15,0)="","-",VLOOKUP(A23,Table1[#All],15,0)),CHAR(10), "- ตามคำขอกู้ : ",IF(VLOOKUP(A23,Table1[#All],17,0)="","-",VLOOKUP(A23,Table1[#All],17,0))) -> #N/A | T23: =CONCATENATE(CHAR(10), IF(OR(VLOOKUP(A23,Table1[#All],5,0)="-",VLOOKUP(A23,Table1[#All],5,0)=""),"-",IF(VLOOKUP(A23,Table1[#All],4,0)=1,"พบ","ไม่พบ")),CHAR(10), IF(OR(VLOOKUP(A23,Table1[#All],7,0)="-",VLOOKUP(A23,Table1[#All],7,0)=""),"-",IF(VLOOKUP(A23,Table1[#All],6,0)=1,"พบ","ไม่พบ")),CHAR(10), IF(OR(VLOOKUP(A23,Table1[#All],9,0)="-",VLOOKUP(A23,Table1[#All],9,0)=""),"-",IF(VLOOKUP(A23,Table1[#All],8,0)=1,"พบ","ไม่พบ")),CHAR(10), IF(OR(VLOOKUP(A23,Table1[#All],11,0)="-",VLOOKUP(A23,Table1[#All],11,0)=""),"-",IF(VLOOKUP(A23,Table1[#All],10,0)=1,"พบ","ไม่พบ")),CHAR(10), IF(OR(VLOOKUP(A23,Table1[#All],13,0)="-",VLOOKUP(A23,Table1[#All],13,0)=""),"-",IF(VLOOKUP(A23,Table1[#All],12,0)=1,"พบ","ไม่พบ")),CHAR(10), IF(OR(VLOOKUP(A23,Table1[#All],15,0)="-",VLOOKUP(A23,Table1[#All],15,0)=""),"-",IF(VLOOKUP(A23,Table1[#All],14,0)=1,"พบ","ไม่พบ")),CHAR(10), IF(OR(VLOOKUP(A23,Table1[#All],17,0)="-",VLOOKUP(A23,Table1[#All],17,0)=""),"-",IF(VLOOKUP(A23,Table1[#All],16,0)=1,"พบ","ไม่พบ")),CHAR(10)) -> #N/A | X23: =CONCATENATE(CHAR(10),IF(OR(VLOOKUP(A23,Table1[#All],18,0)="ไม่พบ",VLOOKUP(A23,Table1[#All],18,0)="-"),"-",VLOOKUP(A23,Table1[#All],19,0))) -> #N/A
G24: 2. สำนักงานขนส่ง | U24: =IF(Sheet1!U14="พบ","R","£") -> £ | W24: พบ | AB24: =IF(Sheet1!U14="ไม่พบ","R","£") -> £ | AD24: ไม่พบ
A25: =IF(OR(F10=0,F10="-"),"ซ่อนช่อง",B10) -> จำเลยที่ 2 | G25: =CONCATENATE("1. สำนักงานที่ดิน ดังนี้",CHAR(10), "- ณ ภูมิลำเนาแต่กำเนิด : ",IF(VLOOKUP(A25,Table1[#All],5,0)="","-",VLOOKUP(A25,Table1[#All],5,0)),CHAR(10), "- ณ ภูมิลำเนาปัจจุบัน : ",IF(VLOOKUP(A25,Table1[#All],7,0)="","-",VLOOKUP(A25,Table1[#All],7,0)),CHAR(10), "- ขณะทำสัญญา : ",IF(VLOOKUP(A25,Table1[#All],9,0)="","-",VLOOKUP(A25,Table1[#All],9,0)),CHAR(10), "- ที่จดทะเบียนสมรส : ",IF(VLOOKUP(A25,Table1[#All],11,0)="","-",VLOOKUP(A25,Table1[#All],11,0)),CHAR(10), "- ที่จดทะเบียนหย่า : ",IF(VLOOKUP(A25,Table1[#All],13,0)="","-",VLOOKUP(A25,Table1[#All],13,0)),CHAR(10), "- สถานที่ทำสัญญา : ",IF(VLOOKUP(A25,Table1[#All],15,0)="","-",VLOOKUP(A25,Table1[#All],15,0)),CHAR(10), "- ตามคำขอกู้ : ",IF(VLOOKUP(A25,Table1[#All],17,0)="","-",VLOOKUP(A25,Table1[#All],17,0))) -> 1. สำนักงานที่ดิน ดังนี้ - ณ ภูมิลำเนาแต่กำเนิด : อ.เมืองนครสวรรค์ - ณ ภูมิลำเนาปัจจุบัน : อ.อุดทัย - ขณะทำสัญญา : อ.หางดง - ที่จดทะเบียนสมรส : อ.คลองหลวง - ที่จดทะเบียนหย่า : อ.เมืองปทุมธานี - สถานที่ทำสัญญา : อ.เมืองเชียงใหม่ - ตามคำขอกู้ : อ.หางดง | T25: =CONCATENATE(CHAR(10), IF(OR(VLOOKUP(A25,Table1[#All],5,0)="-",VLOOKUP(A25,Table1[#All],5,0)=""),"-",IF(VLOOKUP(A25,Table1[#All],4,0)=1,"พบ","ไม่พบ")),CHAR(10), IF(OR(VLOOKUP(A25,Table1[#All],7,0)="-",VLOOKUP(A25,Table1[#All],7,0)=""),"-",IF(VLOOKUP(A25,Table1[#All],6,0)=1,"พบ","ไม่พบ")),CHAR(10), IF(OR(VLOOKUP(A25,Table1[#All],9,0)="-",VLOOKUP(A25,Table1[#All],9,0)=""),"-",IF(VLOOKUP(A25,Table1[#All],8,0)=1,"พบ","ไม่พบ")),CHAR(10), IF(OR(VLOOKUP(A25,Table1[#All],11,0)="-",VLOOKUP(A25,Table1[#All],11,0)=""),"-",IF(VLOOKUP(A25,Table1[#All],10,0)=1,"พบ","ไม่พบ")),CHAR(10), IF(OR(VLOOKUP(A25,Table1[#All],13,0)="-",VLOOKUP(A25,Table1[#All],13,0)=""),"-",IF(VLOOKUP(A25,Table1[#All],12,0)=1,"พบ","ไม่พบ")),CHAR(10), IF(OR(VLOOKUP(A25,Table1[#All],15,0)="-",VLOOKUP(A25,Table1[#All],15,0)=""),"-",IF(VLOOKUP(A25,Table1[#All],14,0)=1,"พบ","ไม่พบ")),CHAR(10), IF(OR(VLOOKUP(A25,Table1[#All],17,0)="-",VLOOKUP(A25,Table1[#All],17,0)=""),"-",IF(VLOOKUP(A25,Table1[#All],16,0)=1,"พบ","ไม่พบ")),CHAR(10)) -> ไม่พบ ไม่พบ ไม่พบ ไม่พบ ไม่พบ ไม่พบ ไม่พบ | X25: =CONCATENATE(CHAR(10),IF(OR(VLOOKUP(A25,Table1[#All],18,0)="ไม่พบ",VLOOKUP(A25,Table1[#All],18,0)="-"),"-",VLOOKUP(A25,Table1[#All],19,0))) -> -
G26: 2. สำนักงานขนส่ง | U26: =IF(Sheet1!U16="พบ","R","£") -> £ | W26: พบ | AB26: =IF(Sheet1!U16="ไม่พบ","R","£") -> £ | AD26: ไม่พบ
A27: =IF(OR(Y10=0,Y10="-"),"ซ่อนช่อง",S10) -> ซ่อนช่อง | G27: =CONCATENATE("1. สำนักงานที่ดิน ดังนี้",CHAR(10), "- ณ ภูมิลำเนาแต่กำเนิด : ",IF(VLOOKUP(A27,Table1[#All],5,0)="","-",VLOOKUP(A27,Table1[#All],5,0)),CHAR(10), "- ณ ภูมิลำเนาปัจจุบัน : ",IF(VLOOKUP(A27,Table1[#All],7,0)="","-",VLOOKUP(A27,Table1[#All],7,0)),CHAR(10), "- ขณะทำสัญญา : ",IF(VLOOKUP(A27,Table1[#All],9,0)="","-",VLOOKUP(A27,Table1[#All],9,0)),CHAR(10), "- ที่จดทะเบียนสมรส : ",IF(VLOOKUP(A27,Table1[#All],11,0)="","-",VLOOKUP(A27,Table1[#All],11,0)),CHAR(10), "- ที่จดทะเบียนหย่า : ",IF(VLOOKUP(A27,Table1[#All],13,0)="","-",VLOOKUP(A27,Table1[#All],13,0)),CHAR(10), "- สถานที่ทำสัญญา : ",IF(VLOOKUP(A27,Table1[#All],15,0)="","-",VLOOKUP(A27,Table1[#All],15,0)),CHAR(10), "- ตามคำขอกู้ : ",IF(VLOOKUP(A27,Table1[#All],17,0)="","-",VLOOKUP(A27,Table1[#All],17,0))) -> #N/A | T27: =CONCATENATE(CHAR(10), IF(OR(VLOOKUP(A27,Table1[#All],5,0)="-",VLOOKUP(A27,Table1[#All],5,0)=""),"-",IF(VLOOKUP(A27,Table1[#All],4,0)=1,"พบ","ไม่พบ")),CHAR(10), IF(OR(VLOOKUP(A27,Table1[#All],7,0)="-",VLOOKUP(A27,Table1[#All],7,0)=""),"-",IF(VLOOKUP(A27,Table1[#All],6,0)=1,"พบ","ไม่พบ")),CHAR(10), IF(OR(VLOOKUP(A27,Table1[#All],9,0)="-",VLOOKUP(A27,Table1[#All],9,0)=""),"-",IF(VLOOKUP(A27,Table1[#All],8,0)=1,"พบ","ไม่พบ")),CHAR(10), IF(OR(VLOOKUP(A27,Table1[#All],11,0)="-",VLOOKUP(A27,Table1[#All],11,0)=""),"-",IF(VLOOKUP(A27,Table1[#All],10,0)=1,"พบ","ไม่พบ")),CHAR(10), IF(OR(VLOOKUP(A27,Table1[#All],13,0)="-",VLOOKUP(A27,Table1[#All],13,0)=""),"-",IF(VLOOKUP(A27,Table1[#All],12,0)=1,"พบ","ไม่พบ")),CHAR(10), IF(OR(VLOOKUP(A27,Table1[#All],15,0)="-",VLOOKUP(A27,Table1[#All],15,0)=""),"-",IF(VLOOKUP(A27,Table1[#All],14,0)=1,"พบ","ไม่พบ")),CHAR(10), IF(OR(VLOOKUP(A27,Table1[#All],17,0)="-",VLOOKUP(A27,Table1[#All],17,0)=""),"-",IF(VLOOKUP(A27,Table1[#All],16,0)=1,"พบ","ไม่พบ")),CHAR(10)) -> #N/A | X27: =CONCATENATE(CHAR(10),IF(OR(VLOOKUP(A27,Table1[#All],18,0)="ไม่พบ",VLOOKUP(A27,Table1[#All],18,0)="-"),"-",VLOOKUP(A27,Table1[#All],19,0))) -> #N/A
G28: 2. สำนักงานขนส่ง | U28: =IF(Sheet1!U18="พบ","R","£") -> £ | W28: พบ | AB28: =IF(Sheet1!U18="ไม่พบ","R","£") -> £ | AD28: ไม่พบ
A29: =IF(OR(F11=0,F11="-"),"ซ่อนช่อง",B11) -> จำเลยที่ 3 | G29: =CONCATENATE("1. สำนักงานที่ดิน ดังนี้",CHAR(10), "- ณ ภูมิลำเนาแต่กำเนิด : ",IF(VLOOKUP(A29,Table1[#All],5,0)="","-",VLOOKUP(A29,Table1[#All],5,0)),CHAR(10), "- ณ ภูมิลำเนาปัจจุบัน : ",IF(VLOOKUP(A29,Table1[#All],7,0)="","-",VLOOKUP(A29,Table1[#All],7,0)),CHAR(10), "- ขณะทำสัญญา : ",IF(VLOOKUP(A29,Table1[#All],9,0)="","-",VLOOKUP(A29,Table1[#All],9,0)),CHAR(10), "- ที่จดทะเบียนสมรส : ",IF(VLOOKUP(A29,Table1[#All],11,0)="","-",VLOOKUP(A29,Table1[#All],11,0)),CHAR(10), "- ที่จดทะเบียนหย่า : ",IF(VLOOKUP(A29,Table1[#All],13,0)="","-",VLOOKUP(A29,Table1[#All],13,0)),CHAR(10), "- สถานที่ทำสัญญา : ",IF(VLOOKUP(A29,Table1[#All],15,0)="","-",VLOOKUP(A29,Table1[#All],15,0)),CHAR(10), "- ตามคำขอกู้ : ",IF(VLOOKUP(A29,Table1[#All],17,0)="","-",VLOOKUP(A29,Table1[#All],17,0))) -> 1. สำนักงานที่ดิน ดังนี้ - ณ ภูมิลำเนาแต่กำเนิด : อ.บ้านโคก - ณ ภูมิลำเนาปัจจุบัน : อ.เมืองปทุมธานี - ขณะทำสัญญา : อ.บ้านโคก - ที่จดทะเบียนสมรส : อ.คลองหลวง - ที่จดทะเบียนหย่า : อ.เมืองปทุมธานี - สถานที่ทำสัญญา : อ.เมืองเชียงใหม่ - ตามคำขอกู้ : อ.บ้านโคก | T29: =CONCATENATE(CHAR(10), IF(OR(VLOOKUP(A29,Table1[#All],5,0)="-",VLOOKUP(A29,Table1[#All],5,0)=""),"-",IF(VLOOKUP(A29,Table1[#All],4,0)=1,"พบ","ไม่พบ")),CHAR(10), IF(OR(VLOOKUP(A29,Table1[#All],7,0)="-",VLOOKUP(A29,Table1[#All],7,0)=""),"-",IF(VLOOKUP(A29,Table1[#All],6,0)=1,"พบ","ไม่พบ")),CHAR(10), IF(OR(VLOOKUP(A29,Table1[#All],9,0)="-",VLOOKUP(A29,Table1[#All],9,0)=""),"-",IF(VLOOKUP(A29,Table1[#All],8,0)=1,"พบ","ไม่พบ")),CHAR(10), IF(OR(VLOOKUP(A29,Table1[#All],11,0)="-",VLOOKUP(A29,Table1[#All],11,0)=""),"-",IF(VLOOKUP(A29,Table1[#All],10,0)=1,"พบ","ไม่พบ")),CHAR(10), IF(OR(VLOOKUP(A29,Table1[#All],13,0)="-",VLOOKUP(A29,Table1[#All],13,0)=""),"-",IF(VLOOKUP(A29,Table1[#All],12,0)=1,"พบ","ไม่พบ")),CHAR(10), IF(OR(VLOOKUP(A29,Table1[#All],15,0)="-",VLOOKUP(A29,Table1[#All],15,0)=""),"-",IF(VLOOKUP(A29,Table1[#All],14,0)=1,"พบ","ไม่พบ")),CHAR(10), IF(OR(VLOOKUP(A29,Table1[#All],17,0)="-",VLOOKUP(A29,Table1[#All],17,0)=""),"-",IF(VLOOKUP(A29,Table1[#All],16,0)=1,"พบ","ไม่พบ")),CHAR(10)) -> ไม่พบ ไม่พบ ไม่พบ ไม่พบ ไม่พบ ไม่พบ ไม่พบ | X29: =CONCATENATE(CHAR(10),IF(OR(VLOOKUP(A29,Table1[#All],18,0)="ไม่พบ",VLOOKUP(A29,Table1[#All],18,0)="-"),"-",VLOOKUP(A29,Table1[#All],19,0))) -> -
G30: 2. สำนักงานขนส่ง | U30: =IF(Sheet1!U20="พบ","R","£") -> £ | W30: พบ | AB30: =IF(Sheet1!U20="ไม่พบ","R","£") -> £ | AD30: ไม่พบ
A31: =IF(OR(Y11=0,Y11="-"),"ซ่อนช่อง",S11) -> ซ่อนช่อง | G31: =CONCATENATE("1. สำนักงานที่ดิน ดังนี้",CHAR(10), "- ณ ภูมิลำเนาแต่กำเนิด : ",IF(VLOOKUP(A31,Table1[#All],5,0)="","-",VLOOKUP(A31,Table1[#All],5,0)),CHAR(10), "- ณ ภูมิลำเนาปัจจุบัน : ",IF(VLOOKUP(A31,Table1[#All],7,0)="","-",VLOOKUP(A31,Table1[#All],7,0)),CHAR(10), "- ขณะทำสัญญา : ",IF(VLOOKUP(A31,Table1[#All],9,0)="","-",VLOOKUP(A31,Table1[#All],9,0)),CHAR(10), "- ที่จดทะเบียนสมรส : ",IF(VLOOKUP(A31,Table1[#All],11,0)="","-",VLOOKUP(A31,Table1[#All],11,0)),CHAR(10), "- ที่จดทะเบียนหย่า : ",IF(VLOOKUP(A31,Table1[#All],13,0)="","-",VLOOKUP(A31,Table1[#All],13,0)),CHAR(10), "- สถานที่ทำสัญญา : ",IF(VLOOKUP(A31,Table1[#All],15,0)="","-",VLOOKUP(A31,Table1[#All],15,0)),CHAR(10), "- ตามคำขอกู้ : ",IF(VLOOKUP(A31,Table1[#All],17,0)="","-",VLOOKUP(A31,Table1[#All],17,0))) -> #N/A | T31: =CONCATENATE(CHAR(10), IF(OR(VLOOKUP(A31,Table1[#All],5,0)="-",VLOOKUP(A31,Table1[#All],5,0)=""),"-",IF(VLOOKUP(A31,Table1[#All],4,0)=1,"พบ","ไม่พบ")),CHAR(10), IF(OR(VLOOKUP(A31,Table1[#All],7,0)="-",VLOOKUP(A31,Table1[#All],7,0)=""),"-",IF(VLOOKUP(A31,Table1[#All],6,0)=1,"พบ","ไม่พบ")),CHAR(10), IF(OR(VLOOKUP(A31,Table1[#All],9,0)="-",VLOOKUP(A31,Table1[#All],9,0)=""),"-",IF(VLOOKUP(A31,Table1[#All],8,0)=1,"พบ","ไม่พบ")),CHAR(10), IF(OR(VLOOKUP(A31,Table1[#All],11,0)="-",VLOOKUP(A31,Table1[#All],11,0)=""),"-",IF(VLOOKUP(A31,Table1[#All],10,0)=1,"พบ","ไม่พบ")),CHAR(10), IF(OR(VLOOKUP(A31,Table1[#All],13,0)="-",VLOOKUP(A31,Table1[#All],13,0)=""),"-",IF(VLOOKUP(A31,Table1[#All],12,0)=1,"พบ","ไม่พบ")),CHAR(10), IF(OR(VLOOKUP(A31,Table1[#All],15,0)="-",VLOOKUP(A31,Table1[#All],15,0)=""),"-",IF(VLOOKUP(A31,Table1[#All],14,0)=1,"พบ","ไม่พบ")),CHAR(10), IF(OR(VLOOKUP(A31,Table1[#All],17,0)="-",VLOOKUP(A31,Table1[#All],17,0)=""),"-",IF(VLOOKUP(A31,Table1[#All],16,0)=1,"พบ","ไม่พบ")),CHAR(10)) -> #N/A | X31: =CONCATENATE(CHAR(10),IF(OR(VLOOKUP(A31,Table1[#All],18,0)="ไม่พบ",VLOOKUP(A31,Table1[#All],18,0)="-"),"-",VLOOKUP(A31,Table1[#All],19,0))) -> #N/A
G32: 2. สำนักงานขนส่ง | U32: =IF(Sheet1!U22="พบ","R","£") -> £ | W32: พบ | AB32: =IF(Sheet1!U22="ไม่พบ","R","£") -> £ | AD32: ไม่พบ
A33: =IF(OR(F12=0,F12="-"),"ซ่อนช่อง",B12) -> ซ่อนช่อง | G33: =CONCATENATE("1. สำนักงานที่ดิน ดังนี้",CHAR(10), "- ณ ภูมิลำเนาแต่กำเนิด : ",IF(VLOOKUP(A33,Table1[#All],5,0)="","-",VLOOKUP(A33,Table1[#All],5,0)),CHAR(10), "- ณ ภูมิลำเนาปัจจุบัน : ",IF(VLOOKUP(A33,Table1[#All],7,0)="","-",VLOOKUP(A33,Table1[#All],7,0)),CHAR(10), "- ขณะทำสัญญา : ",IF(VLOOKUP(A33,Table1[#All],9,0)="","-",VLOOKUP(A33,Table1[#All],9,0)),CHAR(10), "- ที่จดทะเบียนสมรส : ",IF(VLOOKUP(A33,Table1[#All],11,0)="","-",VLOOKUP(A33,Table1[#All],11,0)),CHAR(10), "- ที่จดทะเบียนหย่า : ",IF(VLOOKUP(A33,Table1[#All],13,0)="","-",VLOOKUP(A33,Table1[#All],13,0)),CHAR(10), "- สถานที่ทำสัญญา : ",IF(VLOOKUP(A33,Table1[#All],15,0)="","-",VLOOKUP(A33,Table1[#All],15,0)),CHAR(10), "- ตามคำขอกู้ : ",IF(VLOOKUP(A33,Table1[#All],17,0)="","-",VLOOKUP(A33,Table1[#All],17,0))) -> #N/A | T33: =CONCATENATE(CHAR(10), IF(OR(VLOOKUP(A33,Table1[#All],5,0)="-",VLOOKUP(A33,Table1[#All],5,0)=""),"-",IF(VLOOKUP(A33,Table1[#All],4,0)=1,"พบ","ไม่พบ")),CHAR(10), IF(OR(VLOOKUP(A33,Table1[#All],7,0)="-",VLOOKUP(A33,Table1[#All],7,0)=""),"-",IF(VLOOKUP(A33,Table1[#All],6,0)=1,"พบ","ไม่พบ")),CHAR(10), IF(OR(VLOOKUP(A33,Table1[#All],9,0)="-",VLOOKUP(A33,Table1[#All],9,0)=""),"-",IF(VLOOKUP(A33,Table1[#All],8,0)=1,"พบ","ไม่พบ")),CHAR(10), IF(OR(VLOOKUP(A33,Table1[#All],11,0)="-",VLOOKUP(A33,Table1[#All],11,0)=""),"-",IF(VLOOKUP(A33,Table1[#All],10,0)=1,"พบ","ไม่พบ")),CHAR(10), IF(OR(VLOOKUP(A33,Table1[#All],13,0)="-",VLOOKUP(A33,Table1[#All],13,0)=""),"-",IF(VLOOKUP(A33,Table1[#All],12,0)=1,"พบ","ไม่พบ")),CHAR(10), IF(OR(VLOOKUP(A33,Table1[#All],15,0)="-",VLOOKUP(A33,Table1[#All],15,0)=""),"-",IF(VLOOKUP(A33,Table1[#All],14,0)=1,"พบ","ไม่พบ")),CHAR(10), IF(OR(VLOOKUP(A33,Table1[#All],17,0)="-",VLOOKUP(A33,Table1[#All],17,0)=""),"-",IF(VLOOKUP(A33,Table1[#All],16,0)=1,"พบ","ไม่พบ")),CHAR(10)) -> #N/A | X33: =CONCATENATE(CHAR(10),IF(OR(VLOOKUP(A33,Table1[#All],18,0)="ไม่พบ",VLOOKUP(A33,Table1[#All],18,0)="-"),"-",VLOOKUP(A33,Table1[#All],19,0))) -> #N/A
G34: 2. สำนักงานขนส่ง | U34: =IF(Sheet1!U24="พบ","R","£") -> £ | W34: พบ | AB34: =IF(Sheet1!U24="ไม่พบ","R","£") -> £ | AD34: ไม่พบ
A35: =IF(OR(Y12=0,Y12="-"),"ซ่อนช่อง",S12) -> ซ่อนช่อง | G35: =CONCATENATE("1. สำนักงานที่ดิน ดังนี้",CHAR(10), "- ณ ภูมิลำเนาแต่กำเนิด : ",IF(VLOOKUP(A35,Table1[#All],5,0)="","-",VLOOKUP(A35,Table1[#All],5,0)),CHAR(10), "- ณ ภูมิลำเนาปัจจุบัน : ",IF(VLOOKUP(A35,Table1[#All],7,0)="","-",VLOOKUP(A35,Table1[#All],7,0)),CHAR(10), "- ขณะทำสัญญา : ",IF(VLOOKUP(A35,Table1[#All],9,0)="","-",VLOOKUP(A35,Table1[#All],9,0)),CHAR(10), "- ที่จดทะเบียนสมรส : ",IF(VLOOKUP(A35,Table1[#All],11,0)="","-",VLOOKUP(A35,Table1[#All],11,0)),CHAR(10), "- ที่จดทะเบียนหย่า : ",IF(VLOOKUP(A35,Table1[#All],13,0)="","-",VLOOKUP(A35,Table1[#All],13,0)),CHAR(10), "- สถานที่ทำสัญญา : ",IF(VLOOKUP(A35,Table1[#All],15,0)="","-",VLOOKUP(A35,Table1[#All],15,0)),CHAR(10), "- ตามคำขอกู้ : ",IF(VLOOKUP(A35,Table1[#All],17,0)="","-",VLOOKUP(A35,Table1[#All],17,0))) -> #N/A | T35: =CONCATENATE(CHAR(10), IF(OR(VLOOKUP(A35,Table1[#All],5,0)="-",VLOOKUP(A35,Table1[#All],5,0)=""),"-",IF(VLOOKUP(A35,Table1[#All],4,0)=1,"พบ","ไม่พบ")),CHAR(10), IF(OR(VLOOKUP(A35,Table1[#All],7,0)="-",VLOOKUP(A35,Table1[#All],7,0)=""),"-",IF(VLOOKUP(A35,Table1[#All],6,0)=1,"พบ","ไม่พบ")),CHAR(10), IF(OR(VLOOKUP(A35,Table1[#All],9,0)="-",VLOOKUP(A35,Table1[#All],9,0)=""),"-",IF(VLOOKUP(A35,Table1[#All],8,0)=1,"พบ","ไม่พบ")),CHAR(10), IF(OR(VLOOKUP(A35,Table1[#All],11,0)="-",VLOOKUP(A35,Table1[#All],11,0)=""),"-",IF(VLOOKUP(A35,Table1[#All],10,0)=1,"พบ","ไม่พบ")),CHAR(10), IF(OR(VLOOKUP(A35,Table1[#All],13,0)="-",VLOOKUP(A35,Table1[#All],13,0)=""),"-",IF(VLOOKUP(A35,Table1[#All],12,0)=1,"พบ","ไม่พบ")),CHAR(10), IF(OR(VLOOKUP(A35,Table1[#All],15,0)="-",VLOOKUP(A35,Table1[#All],15,0)=""),"-",IF(VLOOKUP(A35,Table1[#All],14,0)=1,"พบ","ไม่พบ")),CHAR(10), IF(OR(VLOOKUP(A35,Table1[#All],17,0)="-",VLOOKUP(A35,Table1[#All],17,0)=""),"-",IF(VLOOKUP(A35,Table1[#All],16,0)=1,"พบ","ไม่พบ")),CHAR(10)) -> #N/A | X35: =CONCATENATE(CHAR(10),IF(OR(VLOOKUP(A35,Table1[#All],18,0)="ไม่พบ",VLOOKUP(A35,Table1[#All],18,0)="-"),"-",VLOOKUP(A35,Table1[#All],19,0))) -> #N/A
G36: 2. สำนักงานขนส่ง | U36: =IF(Sheet1!U26="พบ","R","£") -> £ | W36: พบ | AB36: =IF(Sheet1!U26="ไม่พบ","R","£") -> £ | AD36: ไม่พบ
A37: =IF(OR(F13=0,F13="-"),"ซ่อนช่อง",B13) -> ซ่อนช่อง | G37: =CONCATENATE("1. สำนักงานที่ดิน ดังนี้",CHAR(10), "- ณ ภูมิลำเนาแต่กำเนิด : ",IF(VLOOKUP(A37,Table1[#All],5,0)="","-",VLOOKUP(A37,Table1[#All],5,0)),CHAR(10), "- ณ ภูมิลำเนาปัจจุบัน : ",IF(VLOOKUP(A37,Table1[#All],7,0)="","-",VLOOKUP(A37,Table1[#All],7,0)),CHAR(10), "- ขณะทำสัญญา : ",IF(VLOOKUP(A37,Table1[#All],9,0)="","-",VLOOKUP(A37,Table1[#All],9,0)),CHAR(10), "- ที่จดทะเบียนสมรส : ",IF(VLOOKUP(A37,Table1[#All],11,0)="","-",VLOOKUP(A37,Table1[#All],11,0)),CHAR(10), "- ที่จดทะเบียนหย่า : ",IF(VLOOKUP(A37,Table1[#All],13,0)="","-",VLOOKUP(A37,Table1[#All],13,0)),CHAR(10), "- สถานที่ทำสัญญา : ",IF(VLOOKUP(A37,Table1[#All],15,0)="","-",VLOOKUP(A37,Table1[#All],15,0)),CHAR(10), "- ตามคำขอกู้ : ",IF(VLOOKUP(A37,Table1[#All],17,0)="","-",VLOOKUP(A37,Table1[#All],17,0))) -> #N/A | T37: =CONCATENATE(CHAR(10), IF(OR(VLOOKUP(A37,Table1[#All],5,0)="-",VLOOKUP(A37,Table1[#All],5,0)=""),"-",IF(VLOOKUP(A37,Table1[#All],4,0)=1,"พบ","ไม่พบ")),CHAR(10), IF(OR(VLOOKUP(A37,Table1[#All],7,0)="-",VLOOKUP(A37,Table1[#All],7,0)=""),"-",IF(VLOOKUP(A37,Table1[#All],6,0)=1,"พบ","ไม่พบ")),CHAR(10), IF(OR(VLOOKUP(A37,Table1[#All],9,0)="-",VLOOKUP(A37,Table1[#All],9,0)=""),"-",IF(VLOOKUP(A37,Table1[#All],8,0)=1,"พบ","ไม่พบ")),CHAR(10), IF(OR(VLOOKUP(A37,Table1[#All],11,0)="-",VLOOKUP(A37,Table1[#All],11,0)=""),"-",IF(VLOOKUP(A37,Table1[#All],10,0)=1,"พบ","ไม่พบ")),CHAR(10), IF(OR(VLOOKUP(A37,Table1[#All],13,0)="-",VLOOKUP(A37,Table1[#All],13,0)=""),"-",IF(VLOOKUP(A37,Table1[#All],12,0)=1,"พบ","ไม่พบ")),CHAR(10), IF(OR(VLOOKUP(A37,Table1[#All],15,0)="-",VLOOKUP(A37,Table1[#All],15,0)=""),"-",IF(VLOOKUP(A37,Table1[#All],14,0)=1,"พบ","ไม่พบ")),CHAR(10), IF(OR(VLOOKUP(A37,Table1[#All],17,0)="-",VLOOKUP(A37,Table1[#All],17,0)=""),"-",IF(VLOOKUP(A37,Table1[#All],16,0)=1,"พบ","ไม่พบ")),CHAR(10)) -> #N/A | X37: =CONCATENATE(CHAR(10),IF(OR(VLOOKUP(A37,Table1[#All],18,0)="ไม่พบ",VLOOKUP(A37,Table1[#All],18,0)="-"),"-",VLOOKUP(A37,Table1[#All],19,0))) -> #N/A
G38: 2. สำนักงานขนส่ง | U38: =IF(Sheet1!U28="พบ","R","£") -> £ | W38: พบ | AB38: =IF(Sheet1!U28="ไม่พบ","R","£") -> £ | AD38: ไม่พบ
A39: =IF(OR(Y13=0,Y13="-"),"ซ่อนช่อง",S13) -> ซ่อนช่อง | G39: =CONCATENATE("1. สำนักงานที่ดิน ดังนี้",CHAR(10), "- ณ ภูมิลำเนาแต่กำเนิด : ",IF(VLOOKUP(A39,Table1[#All],5,0)="","-",VLOOKUP(A39,Table1[#All],5,0)),CHAR(10), "- ณ ภูมิลำเนาปัจจุบัน : ",IF(VLOOKUP(A39,Table1[#All],7,0)="","-",VLOOKUP(A39,Table1[#All],7,0)),CHAR(10), "- ขณะทำสัญญา : ",IF(VLOOKUP(A39,Table1[#All],9,0)="","-",VLOOKUP(A39,Table1[#All],9,0)),CHAR(10), "- ที่จดทะเบียนสมรส : ",IF(VLOOKUP(A39,Table1[#All],11,0)="","-",VLOOKUP(A39,Table1[#All],11,0)),CHAR(10), "- ที่จดทะเบียนหย่า : ",IF(VLOOKUP(A39,Table1[#All],13,0)="","-",VLOOKUP(A39,Table1[#All],13,0)),CHAR(10), "- สถานที่ทำสัญญา : ",IF(VLOOKUP(A39,Table1[#All],15,0)="","-",VLOOKUP(A39,Table1[#All],15,0)),CHAR(10), "- ตามคำขอกู้ : ",IF(VLOOKUP(A39,Table1[#All],17,0)="","-",VLOOKUP(A39,Table1[#All],17,0))) -> #N/A | T39: =CONCATENATE(CHAR(10), IF(OR(VLOOKUP(A39,Table1[#All],5,0)="-",VLOOKUP(A39,Table1[#All],5,0)=""),"-",IF(VLOOKUP(A39,Table1[#All],4,0)=1,"พบ","ไม่พบ")),CHAR(10), IF(OR(VLOOKUP(A39,Table1[#All],7,0)="-",VLOOKUP(A39,Table1[#All],7,0)=""),"-",IF(VLOOKUP(A39,Table1[#All],6,0)=1,"พบ","ไม่พบ")),CHAR(10), IF(OR(VLOOKUP(A39,Table1[#All],9,0)="-",VLOOKUP(A39,Table1[#All],9,0)=""),"-",IF(VLOOKUP(A39,Table1[#All],8,0)=1,"พบ","ไม่พบ")),CHAR(10), IF(OR(VLOOKUP(A39,Table1[#All],11,0)="-",VLOOKUP(A39,Table1[#All],11,0)=""),"-",IF(VLOOKUP(A39,Table1[#All],10,0)=1,"พบ","ไม่พบ")),CHAR(10), IF(OR(VLOOKUP(A39,Table1[#All],13,0)="-",VLOOKUP(A39,Table1[#All],13,0)=""),"-",IF(VLOOKUP(A39,Table1[#All],12,0)=1,"พบ","ไม่พบ")),CHAR(10), IF(OR(VLOOKUP(A39,Table1[#All],15,0)="-",VLOOKUP(A39,Table1[#All],15,0)=""),"-",IF(VLOOKUP(A39,Table1[#All],14,0)=1,"พบ","ไม่พบ")),CHAR(10), IF(OR(VLOOKUP(A39,Table1[#All],17,0)="-",VLOOKUP(A39,Table1[#All],17,0)=""),"-",IF(VLOOKUP(A39,Table1[#All],16,0)=1,"พบ","ไม่พบ")),CHAR(10)) -> #N/A | X39: =CONCATENATE(CHAR(10),IF(OR(VLOOKUP(A39,Table1[#All],18,0)="ไม่พบ",VLOOKUP(A39,Table1[#All],18,0)="-"),"-",VLOOKUP(A39,Table1[#All],19,0))) -> #N/A
G40: 2. สำนักงานขนส่ง | U40: =IF(Sheet1!U30="พบ","R","£") -> £ | W40: พบ | AB40: =IF(Sheet1!U30="ไม่พบ","R","£") -> £ | AD40: ไม่พบ
A41: =IF(OR(F14=0,F14="-"),"ซ่อนช่อง",B14) -> ซ่อนช่อง | G41: =CONCATENATE("1. สำนักงานที่ดิน ดังนี้",CHAR(10), "- ณ ภูมิลำเนาแต่กำเนิด : ",IF(VLOOKUP(A41,Table1[#All],5,0)="","-",VLOOKUP(A41,Table1[#All],5,0)),CHAR(10), "- ณ ภูมิลำเนาปัจจุบัน : ",IF(VLOOKUP(A41,Table1[#All],7,0)="","-",VLOOKUP(A41,Table1[#All],7,0)),CHAR(10), "- ขณะทำสัญญา : ",IF(VLOOKUP(A41,Table1[#All],9,0)="","-",VLOOKUP(A41,Table1[#All],9,0)),CHAR(10), "- ที่จดทะเบียนสมรส : ",IF(VLOOKUP(A41,Table1[#All],11,0)="","-",VLOOKUP(A41,Table1[#All],11,0)),CHAR(10), "- ที่จดทะเบียนหย่า : ",IF(VLOOKUP(A41,Table1[#All],13,0)="","-",VLOOKUP(A41,Table1[#All],13,0)),CHAR(10), "- สถานที่ทำสัญญา : ",IF(VLOOKUP(A41,Table1[#All],15,0)="","-",VLOOKUP(A41,Table1[#All],15,0)),CHAR(10), "- ตามคำขอกู้ : ",IF(VLOOKUP(A41,Table1[#All],17,0)="","-",VLOOKUP(A41,Table1[#All],17,0))) -> #N/A | T41: =CONCATENATE(CHAR(10), IF(OR(VLOOKUP(A41,Table1[#All],5,0)="-",VLOOKUP(A41,Table1[#All],5,0)=""),"-",IF(VLOOKUP(A41,Table1[#All],4,0)=1,"พบ","ไม่พบ")),CHAR(10), IF(OR(VLOOKUP(A41,Table1[#All],7,0)="-",VLOOKUP(A41,Table1[#All],7,0)=""),"-",IF(VLOOKUP(A41,Table1[#All],6,0)=1,"พบ","ไม่พบ")),CHAR(10), IF(OR(VLOOKUP(A41,Table1[#All],9,0)="-",VLOOKUP(A41,Table1[#All],9,0)=""),"-",IF(VLOOKUP(A41,Table1[#All],8,0)=1,"พบ","ไม่พบ")),CHAR(10), IF(OR(VLOOKUP(A41,Table1[#All],11,0)="-",VLOOKUP(A41,Table1[#All],11,0)=""),"-",IF(VLOOKUP(A41,Table1[#All],10,0)=1,"พบ","ไม่พบ")),CHAR(10), IF(OR(VLOOKUP(A41,Table1[#All],13,0)="-",VLOOKUP(A41,Table1[#All],13,0)=""),"-",IF(VLOOKUP(A41,Table1[#All],12,0)=1,"พบ","ไม่พบ")),CHAR(10), IF(OR(VLOOKUP(A41,Table1[#All],15,0)="-",VLOOKUP(A41,Table1[#All],15,0)=""),"-",IF(VLOOKUP(A41,Table1[#All],14,0)=1,"พบ","ไม่พบ")),CHAR(10), IF(OR(VLOOKUP(A41,Table1[#All],17,0)="-",VLOOKUP(A41,Table1[#All],17,0)=""),"-",IF(VLOOKUP(A41,Table1[#All],16,0)=1,"พบ","ไม่พบ")),CHAR(10)) -> #N/A | X41: =CONCATENATE(CHAR(10),IF(OR(VLOOKUP(A41,Table1[#All],18,0)="ไม่พบ",VLOOKUP(A41,Table1[#All],18,0)="-"),"-",VLOOKUP(A41,Table1[#All],19,0))) -> #N/A
G42: 2. สำนักงานขนส่ง | U42: =IF(Sheet1!U32="พบ","R","£") -> £ | W42: พบ | AB42: =IF(Sheet1!U32="ไม่พบ","R","£") -> £ | AD42: ไม่พบ
A43: =IF(OR(Y14=0,Y14="-"),"ซ่อนช่อง",S14) -> ซ่อนช่อง | G43: =CONCATENATE("1. สำนักงานที่ดิน ดังนี้",CHAR(10), "- ณ ภูมิลำเนาแต่กำเนิด : ",IF(VLOOKUP(A43,Table1[#All],5,0)="","-",VLOOKUP(A43,Table1[#All],5,0)),CHAR(10), "- ณ ภูมิลำเนาปัจจุบัน : ",IF(VLOOKUP(A43,Table1[#All],7,0)="","-",VLOOKUP(A43,Table1[#All],7,0)),CHAR(10), "- ขณะทำสัญญา : ",IF(VLOOKUP(A43,Table1[#All],9,0)="","-",VLOOKUP(A43,Table1[#All],9,0)),CHAR(10), "- ที่จดทะเบียนสมรส : ",IF(VLOOKUP(A43,Table1[#All],11,0)="","-",VLOOKUP(A43,Table1[#All],11,0)),CHAR(10), "- ที่จดทะเบียนหย่า : ",IF(VLOOKUP(A43,Table1[#All],13,0)="","-",VLOOKUP(A43,Table1[#All],13,0)),CHAR(10), "- สถานที่ทำสัญญา : ",IF(VLOOKUP(A43,Table1[#All],15,0)="","-",VLOOKUP(A43,Table1[#All],15,0)),CHAR(10), "- ตามคำขอกู้ : ",IF(VLOOKUP(A43,Table1[#All],17,0)="","-",VLOOKUP(A43,Table1[#All],17,0))) -> #N/A | T43: =CONCATENATE(CHAR(10), IF(OR(VLOOKUP(A43,Table1[#All],5,0)="-",VLOOKUP(A43,Table1[#All],5,0)=""),"-",IF(VLOOKUP(A43,Table1[#All],4,0)=1,"พบ","ไม่พบ")),CHAR(10), IF(OR(VLOOKUP(A43,Table1[#All],7,0)="-",VLOOKUP(A43,Table1[#All],7,0)=""),"-",IF(VLOOKUP(A43,Table1[#All],6,0)=1,"พบ","ไม่พบ")),CHAR(10), IF(OR(VLOOKUP(A43,Table1[#All],9,0)="-",VLOOKUP(A43,Table1[#All],9,0)=""),"-",IF(VLOOKUP(A43,Table1[#All],8,0)=1,"พบ","ไม่พบ")),CHAR(10), IF(OR(VLOOKUP(A43,Table1[#All],11,0)="-",VLOOKUP(A43,Table1[#All],11,0)=""),"-",IF(VLOOKUP(A43,Table1[#All],10,0)=1,"พบ","ไม่พบ")),CHAR(10), IF(OR(VLOOKUP(A43,Table1[#All],13,0)="-",VLOOKUP(A43,Table1[#All],13,0)=""),"-",IF(VLOOKUP(A43,Table1[#All],12,0)=1,"พบ","ไม่พบ")),CHAR(10), IF(OR(VLOOKUP(A43,Table1[#All],15,0)="-",VLOOKUP(A43,Table1[#All],15,0)=""),"-",IF(VLOOKUP(A43,Table1[#All],14,0)=1,"พบ","ไม่พบ")),CHAR(10), IF(OR(VLOOKUP(A43,Table1[#All],17,0)="-",VLOOKUP(A43,Table1[#All],17,0)=""),"-",IF(VLOOKUP(A43,Table1[#All],16,0)=1,"พบ","ไม่พบ")),CHAR(10)) -> #N/A | X43: =CONCATENATE(CHAR(10),IF(OR(VLOOKUP(A43,Table1[#All],18,0)="ไม่พบ",VLOOKUP(A43,Table1[#All],18,0)="-"),"-",VLOOKUP(A43,Table1[#All],19,0))) -> #N/A
G44: 2. สำนักงานขนส่ง | U44: =IF(Sheet1!U34="พบ","R","£") -> £ | W44: พบ | AB44: =IF(Sheet1!U34="ไม่พบ","R","£") -> £ | AD44: ไม่พบ
A45: =IF(OR(F15=0,F15="-"),"ซ่อนช่อง",B15) -> ซ่อนช่อง | G45: =CONCATENATE("1. สำนักงานที่ดิน ดังนี้",CHAR(10), "- ณ ภูมิลำเนาแต่กำเนิด : ",IF(VLOOKUP(A45,Table1[#All],5,0)="","-",VLOOKUP(A45,Table1[#All],5,0)),CHAR(10), "- ณ ภูมิลำเนาปัจจุบัน : ",IF(VLOOKUP(A45,Table1[#All],7,0)="","-",VLOOKUP(A45,Table1[#All],7,0)),CHAR(10), "- ขณะทำสัญญา : ",IF(VLOOKUP(A45,Table1[#All],9,0)="","-",VLOOKUP(A45,Table1[#All],9,0)),CHAR(10), "- ที่จดทะเบียนสมรส : ",IF(VLOOKUP(A45,Table1[#All],11,0)="","-",VLOOKUP(A45,Table1[#All],11,0)),CHAR(10), "- ที่จดทะเบียนหย่า : ",IF(VLOOKUP(A45,Table1[#All],13,0)="","-",VLOOKUP(A45,Table1[#All],13,0)),CHAR(10), "- สถานที่ทำสัญญา : ",IF(VLOOKUP(A45,Table1[#All],15,0)="","-",VLOOKUP(A45,Table1[#All],15,0)),CHAR(10), "- ตามคำขอกู้ : ",IF(VLOOKUP(A45,Table1[#All],17,0)="","-",VLOOKUP(A45,Table1[#All],17,0))) -> #N/A | T45: =CONCATENATE(CHAR(10), IF(OR(VLOOKUP(A45,Table1[#All],5,0)="-",VLOOKUP(A45,Table1[#All],5,0)=""),"-",IF(VLOOKUP(A45,Table1[#All],4,0)=1,"พบ","ไม่พบ")),CHAR(10), IF(OR(VLOOKUP(A45,Table1[#All],7,0)="-",VLOOKUP(A45,Table1[#All],7,0)=""),"-",IF(VLOOKUP(A45,Table1[#All],6,0)=1,"พบ","ไม่พบ")),CHAR(10), IF(OR(VLOOKUP(A45,Table1[#All],9,0)="-",VLOOKUP(A45,Table1[#All],9,0)=""),"-",IF(VLOOKUP(A45,Table1[#All],8,0)=1,"พบ","ไม่พบ")),CHAR(10), IF(OR(VLOOKUP(A45,Table1[#All],11,0)="-",VLOOKUP(A45,Table1[#All],11,0)=""),"-",IF(VLOOKUP(A45,Table1[#All],10,0)=1,"พบ","ไม่พบ")),CHAR(10), IF(OR(VLOOKUP(A45,Table1[#All],13,0)="-",VLOOKUP(A45,Table1[#All],13,0)=""),"-",IF(VLOOKUP(A45,Table1[#All],12,0)=1,"พบ","ไม่พบ")),CHAR(10), IF(OR(VLOOKUP(A45,Table1[#All],15,0)="-",VLOOKUP(A45,Table1[#All],15,0)=""),"-",IF(VLOOKUP(A45,Table1[#All],14,0)=1,"พบ","ไม่พบ")),CHAR(10), IF(OR(VLOOKUP(A45,Table1[#All],17,0)="-",VLOOKUP(A45,Table1[#All],17,0)=""),"-",IF(VLOOKUP(A45,Table1[#All],16,0)=1,"พบ","ไม่พบ")),CHAR(10)) -> #N/A | X45: =CONCATENATE(CHAR(10),IF(OR(VLOOKUP(A45,Table1[#All],18,0)="ไม่พบ",VLOOKUP(A45,Table1[#All],18,0)="-"),"-",VLOOKUP(A45,Table1[#All],19,0))) -> #N/A
G46: 2. สำนักงานขนส่ง | U46: =IF(Sheet1!U36="พบ","R","£") -> £ | W46: พบ | AB46: =IF(Sheet1!U36="ไม่พบ","R","£") -> £ | AD46: ไม่พบ
A47: =IF(OR(Y15=0,Y15="-"),"ซ่อนช่อง",S15) -> ซ่อนช่อง | G47: =CONCATENATE("1. สำนักงานที่ดิน ดังนี้",CHAR(10), "- ณ ภูมิลำเนาแต่กำเนิด : ",IF(VLOOKUP(A47,Table1[#All],5,0)="","-",VLOOKUP(A47,Table1[#All],5,0)),CHAR(10), "- ณ ภูมิลำเนาปัจจุบัน : ",IF(VLOOKUP(A47,Table1[#All],7,0)="","-",VLOOKUP(A47,Table1[#All],7,0)),CHAR(10), "- ขณะทำสัญญา : ",IF(VLOOKUP(A47,Table1[#All],9,0)="","-",VLOOKUP(A47,Table1[#All],9,0)),CHAR(10), "- ที่จดทะเบียนสมรส : ",IF(VLOOKUP(A47,Table1[#All],11,0)="","-",VLOOKUP(A47,Table1[#All],11,0)),CHAR(10), "- ที่จดทะเบียนหย่า : ",IF(VLOOKUP(A47,Table1[#All],13,0)="","-",VLOOKUP(A47,Table1[#All],13,0)),CHAR(10), "- สถานที่ทำสัญญา : ",IF(VLOOKUP(A47,Table1[#All],15,0)="","-",VLOOKUP(A47,Table1[#All],15,0)),CHAR(10), "- ตามคำขอกู้ : ",IF(VLOOKUP(A47,Table1[#All],17,0)="","-",VLOOKUP(A47,Table1[#All],17,0))) -> #N/A | T47: =CONCATENATE(CHAR(10), IF(OR(VLOOKUP(A47,Table1[#All],5,0)="-",VLOOKUP(A47,Table1[#All],5,0)=""),"-",IF(VLOOKUP(A47,Table1[#All],4,0)=1,"พบ","ไม่พบ")),CHAR(10), IF(OR(VLOOKUP(A47,Table1[#All],7,0)="-",VLOOKUP(A47,Table1[#All],7,0)=""),"-",IF(VLOOKUP(A47,Table1[#All],6,0)=1,"พบ","ไม่พบ")),CHAR(10), IF(OR(VLOOKUP(A47,Table1[#All],9,0)="-",VLOOKUP(A47,Table1[#All],9,0)=""),"-",IF(VLOOKUP(A47,Table1[#All],8,0)=1,"พบ","ไม่พบ")),CHAR(10), IF(OR(VLOOKUP(A47,Table1[#All],11,0)="-",VLOOKUP(A47,Table1[#All],11,0)=""),"-",IF(VLOOKUP(A47,Table1[#All],10,0)=1,"พบ","ไม่พบ")),CHAR(10), IF(OR(VLOOKUP(A47,Table1[#All],13,0)="-",VLOOKUP(A47,Table1[#All],13,0)=""),"-",IF(VLOOKUP(A47,Table1[#All],12,0)=1,"พบ","ไม่พบ")),CHAR(10), IF(OR(VLOOKUP(A47,Table1[#All],15,0)="-",VLOOKUP(A47,Table1[#All],15,0)=""),"-",IF(VLOOKUP(A47,Table1[#All],14,0)=1,"พบ","ไม่พบ")),CHAR(10), IF(OR(VLOOKUP(A47,Table1[#All],17,0)="-",VLOOKUP(A47,Table1[#All],17,0)=""),"-",IF(VLOOKUP(A47,Table1[#All],16,0)=1,"พบ","ไม่พบ")),CHAR(10)) -> #N/A | X47: =CONCATENATE(CHAR(10),IF(OR(VLOOKUP(A47,Table1[#All],18,0)="ไม่พบ",VLOOKUP(A47,Table1[#All],18,0)="-"),"-",VLOOKUP(A47,Table1[#All],19,0))) -> #N/A
G48: 2. สำนักงานขนส่ง | U48: =IF(Sheet1!U38="พบ","R","£") -> £ | W48: พบ | AB48: =IF(Sheet1!U38="ไม่พบ","R","£") -> £ | AD48: ไม่พบ
A49: =IF(OR(F16=0,F16="-"),"ซ่อนช่อง",B16) -> ซ่อนช่อง | G49: =CONCATENATE("1. สำนักงานที่ดิน ดังนี้",CHAR(10), "- ณ ภูมิลำเนาแต่กำเนิด : ",IF(VLOOKUP(A49,Table1[#All],5,0)="","-",VLOOKUP(A49,Table1[#All],5,0)),CHAR(10), "- ณ ภูมิลำเนาปัจจุบัน : ",IF(VLOOKUP(A49,Table1[#All],7,0)="","-",VLOOKUP(A49,Table1[#All],7,0)),CHAR(10), "- ขณะทำสัญญา : ",IF(VLOOKUP(A49,Table1[#All],9,0)="","-",VLOOKUP(A49,Table1[#All],9,0)),CHAR(10), "- ที่จดทะเบียนสมรส : ",IF(VLOOKUP(A49,Table1[#All],11,0)="","-",VLOOKUP(A49,Table1[#All],11,0)),CHAR(10), "- ที่จดทะเบียนหย่า : ",IF(VLOOKUP(A49,Table1[#All],13,0)="","-",VLOOKUP(A49,Table1[#All],13,0)),CHAR(10), "- สถานที่ทำสัญญา : ",IF(VLOOKUP(A49,Table1[#All],15,0)="","-",VLOOKUP(A49,Table1[#All],15,0)),CHAR(10), "- ตามคำขอกู้ : ",IF(VLOOKUP(A49,Table1[#All],17,0)="","-",VLOOKUP(A49,Table1[#All],17,0))) -> #N/A | T49: =CONCATENATE(CHAR(10), IF(OR(VLOOKUP(A49,Table1[#All],5,0)="-",VLOOKUP(A49,Table1[#All],5,0)=""),"-",IF(VLOOKUP(A49,Table1[#All],4,0)=1,"พบ","ไม่พบ")),CHAR(10), IF(OR(VLOOKUP(A49,Table1[#All],7,0)="-",VLOOKUP(A49,Table1[#All],7,0)=""),"-",IF(VLOOKUP(A49,Table1[#All],6,0)=1,"พบ","ไม่พบ")),CHAR(10), IF(OR(VLOOKUP(A49,Table1[#All],9,0)="-",VLOOKUP(A49,Table1[#All],9,0)=""),"-",IF(VLOOKUP(A49,Table1[#All],8,0)=1,"พบ","ไม่พบ")),CHAR(10), IF(OR(VLOOKUP(A49,Table1[#All],11,0)="-",VLOOKUP(A49,Table1[#All],11,0)=""),"-",IF(VLOOKUP(A49,Table1[#All],10,0)=1,"พบ","ไม่พบ")),CHAR(10), IF(OR(VLOOKUP(A49,Table1[#All],13,0)="-",VLOOKUP(A49,Table1[#All],13,0)=""),"-",IF(VLOOKUP(A49,Table1[#All],12,0)=1,"พบ","ไม่พบ")),CHAR(10), IF(OR(VLOOKUP(A49,Table1[#All],15,0)="-",VLOOKUP(A49,Table1[#All],15,0)=""),"-",IF(VLOOKUP(A49,Table1[#All],14,0)=1,"พบ","ไม่พบ")),CHAR(10), IF(OR(VLOOKUP(A49,Table1[#All],17,0)="-",VLOOKUP(A49,Table1[#All],17,0)=""),"-",IF(VLOOKUP(A49,Table1[#All],16,0)=1,"พบ","ไม่พบ")),CHAR(10)) -> #N/A | X49: =CONCATENATE(CHAR(10),IF(OR(VLOOKUP(A49,Table1[#All],18,0)="ไม่พบ",VLOOKUP(A49,Table1[#All],18,0)="-"),"-",VLOOKUP(A49,Table1[#All],19,0))) -> #N/A
G50: 2. สำนักงานขนส่ง | U50: =IF(Sheet1!U40="พบ","R","£") -> £ | W50: พบ | AB50: =IF(Sheet1!U40="ไม่พบ","R","£") -> £ | AD50: ไม่พบ
A51: =IF(OR(Y16=0,Y16="-"),"ซ่อนช่อง",S16) -> ซ่อนช่อง | G51: =CONCATENATE("1. สำนักงานที่ดิน ดังนี้",CHAR(10), "- ณ ภูมิลำเนาแต่กำเนิด : ",IF(VLOOKUP(A51,Table1[#All],5,0)="","-",VLOOKUP(A51,Table1[#All],5,0)),CHAR(10), "- ณ ภูมิลำเนาปัจจุบัน : ",IF(VLOOKUP(A51,Table1[#All],7,0)="","-",VLOOKUP(A51,Table1[#All],7,0)),CHAR(10), "- ขณะทำสัญญา : ",IF(VLOOKUP(A51,Table1[#All],9,0)="","-",VLOOKUP(A51,Table1[#All],9,0)),CHAR(10), "- ที่จดทะเบียนสมรส : ",IF(VLOOKUP(A51,Table1[#All],11,0)="","-",VLOOKUP(A51,Table1[#All],11,0)),CHAR(10), "- ที่จดทะเบียนหย่า : ",IF(VLOOKUP(A51,Table1[#All],13,0)="","-",VLOOKUP(A51,Table1[#All],13,0)),CHAR(10), "- สถานที่ทำสัญญา : ",IF(VLOOKUP(A51,Table1[#All],15,0)="","-",VLOOKUP(A51,Table1[#All],15,0)),CHAR(10), "- ตามคำขอกู้ : ",IF(VLOOKUP(A51,Table1[#All],17,0)="","-",VLOOKUP(A51,Table1[#All],17,0))) -> #N/A | T51: =CONCATENATE(CHAR(10), IF(OR(VLOOKUP(A51,Table1[#All],5,0)="-",VLOOKUP(A51,Table1[#All],5,0)=""),"-",IF(VLOOKUP(A51,Table1[#All],4,0)=1,"พบ","ไม่พบ")),CHAR(10), IF(OR(VLOOKUP(A51,Table1[#All],7,0)="-",VLOOKUP(A51,Table1[#All],7,0)=""),"-",IF(VLOOKUP(A51,Table1[#All],6,0)=1,"พบ","ไม่พบ")),CHAR(10), IF(OR(VLOOKUP(A51,Table1[#All],9,0)="-",VLOOKUP(A51,Table1[#All],9,0)=""),"-",IF(VLOOKUP(A51,Table1[#All],8,0)=1,"พบ","ไม่พบ")),CHAR(10), IF(OR(VLOOKUP(A51,Table1[#All],11,0)="-",VLOOKUP(A51,Table1[#All],11,0)=""),"-",IF(VLOOKUP(A51,Table1[#All],10,0)=1,"พบ","ไม่พบ")),CHAR(10), IF(OR(VLOOKUP(A51,Table1[#All],13,0)="-",VLOOKUP(A51,Table1[#All],13,0)=""),"-",IF(VLOOKUP(A51,Table1[#All],12,0)=1,"พบ","ไม่พบ")),CHAR(10), IF(OR(VLOOKUP(A51,Table1[#All],15,0)="-",VLOOKUP(A51,Table1[#All],15,0)=""),"-",IF(VLOOKUP(A51,Table1[#All],14,0)=1,"พบ","ไม่พบ")),CHAR(10), IF(OR(VLOOKUP(A51,Table1[#All],17,0)="-",VLOOKUP(A51,Table1[#All],17,0)=""),"-",IF(VLOOKUP(A51,Table1[#All],16,0)=1,"พบ","ไม่พบ")),CHAR(10)) -> #N/A | X51: =CONCATENATE(CHAR(10),IF(OR(VLOOKUP(A51,Table1[#All],18,0)="ไม่พบ",VLOOKUP(A51,Table1[#All],18,0)="-"),"-",VLOOKUP(A51,Table1[#All],19,0))) -> #N/A
G52: 2. สำนักงานขนส่ง | U52: =IF(Sheet1!U42="พบ","R","£") -> £ | W52: พบ | AB52: =IF(Sheet1!U42="ไม่พบ","R","£") -> £ | AD52: ไม่พบ
A53: =IF(OR(F17=0,F17="-"),"ซ่อนช่อง",B17) -> ซ่อนช่อง | G53: =CONCATENATE("1. สำนักงานที่ดิน ดังนี้",CHAR(10), "- ณ ภูมิลำเนาแต่กำเนิด : ",IF(VLOOKUP(A53,Table1[#All],5,0)="","-",VLOOKUP(A53,Table1[#All],5,0)),CHAR(10), "- ณ ภูมิลำเนาปัจจุบัน : ",IF(VLOOKUP(A53,Table1[#All],7,0)="","-",VLOOKUP(A53,Table1[#All],7,0)),CHAR(10), "- ขณะทำสัญญา : ",IF(VLOOKUP(A53,Table1[#All],9,0)="","-",VLOOKUP(A53,Table1[#All],9,0)),CHAR(10), "- ที่จดทะเบียนสมรส : ",IF(VLOOKUP(A53,Table1[#All],11,0)="","-",VLOOKUP(A53,Table1[#All],11,0)),CHAR(10), "- ที่จดทะเบียนหย่า : ",IF(VLOOKUP(A53,Table1[#All],13,0)="","-",VLOOKUP(A53,Table1[#All],13,0)),CHAR(10), "- สถานที่ทำสัญญา : ",IF(VLOOKUP(A53,Table1[#All],15,0)="","-",VLOOKUP(A53,Table1[#All],15,0)),CHAR(10), "- ตามคำขอกู้ : ",IF(VLOOKUP(A53,Table1[#All],17,0)="","-",VLOOKUP(A53,Table1[#All],17,0))) -> #N/A | T53: =CONCATENATE(CHAR(10), IF(OR(VLOOKUP(A53,Table1[#All],5,0)="-",VLOOKUP(A53,Table1[#All],5,0)=""),"-",IF(VLOOKUP(A53,Table1[#All],4,0)=1,"พบ","ไม่พบ")),CHAR(10), IF(OR(VLOOKUP(A53,Table1[#All],7,0)="-",VLOOKUP(A53,Table1[#All],7,0)=""),"-",IF(VLOOKUP(A53,Table1[#All],6,0)=1,"พบ","ไม่พบ")),CHAR(10), IF(OR(VLOOKUP(A53,Table1[#All],9,0)="-",VLOOKUP(A53,Table1[#All],9,0)=""),"-",IF(VLOOKUP(A53,Table1[#All],8,0)=1,"พบ","ไม่พบ")),CHAR(10), IF(OR(VLOOKUP(A53,Table1[#All],11,0)="-",VLOOKUP(A53,Table1[#All],11,0)=""),"-",IF(VLOOKUP(A53,Table1[#All],10,0)=1,"พบ","ไม่พบ")),CHAR(10), IF(OR(VLOOKUP(A53,Table1[#All],13,0)="-",VLOOKUP(A53,Table1[#All],13,0)=""),"-",IF(VLOOKUP(A53,Table1[#All],12,0)=1,"พบ","ไม่พบ")),CHAR(10), IF(OR(VLOOKUP(A53,Table1[#All],15,0)="-",VLOOKUP(A53,Table1[#All],15,0)=""),"-",IF(VLOOKUP(A53,Table1[#All],14,0)=1,"พบ","ไม่พบ")),CHAR(10), IF(OR(VLOOKUP(A53,Table1[#All],17,0)="-",VLOOKUP(A53,Table1[#All],17,0)=""),"-",IF(VLOOKUP(A53,Table1[#All],16,0)=1,"พบ","ไม่พบ")),CHAR(10)) -> #N/A | X53: =CONCATENATE(CHAR(10),IF(OR(VLOOKUP(A53,Table1[#All],18,0)="ไม่พบ",VLOOKUP(A53,Table1[#All],18,0)="-"),"-",VLOOKUP(A53,Table1[#All],19,0))) -> #N/A
G54: 2. สำนักงานขนส่ง | U54: =IF(Sheet1!U44="พบ","R","£") -> £ | W54: พบ | AB54: =IF(Sheet1!U44="ไม่พบ","R","£") -> £ | AD54: ไม่พบ
A55: =IF(OR(Y17=0,Y17="-"),"ซ่อนช่อง",S17) -> ซ่อนช่อง | G55: =CONCATENATE("1. สำนักงานที่ดิน ดังนี้",CHAR(10), "- ณ ภูมิลำเนาแต่กำเนิด : ",IF(VLOOKUP(A55,Table1[#All],5,0)="","-",VLOOKUP(A55,Table1[#All],5,0)),CHAR(10), "- ณ ภูมิลำเนาปัจจุบัน : ",IF(VLOOKUP(A55,Table1[#All],7,0)="","-",VLOOKUP(A55,Table1[#All],7,0)),CHAR(10), "- ขณะทำสัญญา : ",IF(VLOOKUP(A55,Table1[#All],9,0)="","-",VLOOKUP(A55,Table1[#All],9,0)),CHAR(10), "- ที่จดทะเบียนสมรส : ",IF(VLOOKUP(A55,Table1[#All],11,0)="","-",VLOOKUP(A55,Table1[#All],11,0)),CHAR(10), "- ที่จดทะเบียนหย่า : ",IF(VLOOKUP(A55,Table1[#All],13,0)="","-",VLOOKUP(A55,Table1[#All],13,0)),CHAR(10), "- สถานที่ทำสัญญา : ",IF(VLOOKUP(A55,Table1[#All],15,0)="","-",VLOOKUP(A55,Table1[#All],15,0)),CHAR(10), "- ตามคำขอกู้ : ",IF(VLOOKUP(A55,Table1[#All],17,0)="","-",VLOOKUP(A55,Table1[#All],17,0))) -> #N/A | T55: =CONCATENATE(CHAR(10), IF(OR(VLOOKUP(A55,Table1[#All],5,0)="-",VLOOKUP(A55,Table1[#All],5,0)=""),"-",IF(VLOOKUP(A55,Table1[#All],4,0)=1,"พบ","ไม่พบ")),CHAR(10), IF(OR(VLOOKUP(A55,Table1[#All],7,0)="-",VLOOKUP(A55,Table1[#All],7,0)=""),"-",IF(VLOOKUP(A55,Table1[#All],6,0)=1,"พบ","ไม่พบ")),CHAR(10), IF(OR(VLOOKUP(A55,Table1[#All],9,0)="-",VLOOKUP(A55,Table1[#All],9,0)=""),"-",IF(VLOOKUP(A55,Table1[#All],8,0)=1,"พบ","ไม่พบ")),CHAR(10), IF(OR(VLOOKUP(A55,Table1[#All],11,0)="-",VLOOKUP(A55,Table1[#All],11,0)=""),"-",IF(VLOOKUP(A55,Table1[#All],10,0)=1,"พบ","ไม่พบ")),CHAR(10), IF(OR(VLOOKUP(A55,Table1[#All],13,0)="-",VLOOKUP(A55,Table1[#All],13,0)=""),"-",IF(VLOOKUP(A55,Table1[#All],12,0)=1,"พบ","ไม่พบ")),CHAR(10), IF(OR(VLOOKUP(A55,Table1[#All],15,0)="-",VLOOKUP(A55,Table1[#All],15,0)=""),"-",IF(VLOOKUP(A55,Table1[#All],14,0)=1,"พบ","ไม่พบ")),CHAR(10), IF(OR(VLOOKUP(A55,Table1[#All],17,0)="-",VLOOKUP(A55,Table1[#All],17,0)=""),"-",IF(VLOOKUP(A55,Table1[#All],16,0)=1,"พบ","ไม่พบ")),CHAR(10)) -> #N/A | X55: =CONCATENATE(CHAR(10),IF(OR(VLOOKUP(A55,Table1[#All],18,0)="ไม่พบ",VLOOKUP(A55,Table1[#All],18,0)="-"),"-",VLOOKUP(A55,Table1[#All],19,0))) -> #N/A
G56: 2. สำนักงานขนส่ง | U56: =IF(Sheet1!U46="พบ","R","£") -> £ | W56: พบ | AB56: =IF(Sheet1!U46="ไม่พบ","R","£") -> £ | AD56: ไม่พบ
A57: =IF(OR(F18=0,F18="-"),"ซ่อนช่อง",B18) -> ซ่อนช่อง | G57: =CONCATENATE("1. สำนักงานที่ดิน ดังนี้",CHAR(10), "- ณ ภูมิลำเนาแต่กำเนิด : ",IF(VLOOKUP(A57,Table1[#All],5,0)="","-",VLOOKUP(A57,Table1[#All],5,0)),CHAR(10), "- ณ ภูมิลำเนาปัจจุบัน : ",IF(VLOOKUP(A57,Table1[#All],7,0)="","-",VLOOKUP(A57,Table1[#All],7,0)),CHAR(10), "- ขณะทำสัญญา : ",IF(VLOOKUP(A57,Table1[#All],9,0)="","-",VLOOKUP(A57,Table1[#All],9,0)),CHAR(10), "- ที่จดทะเบียนสมรส : ",IF(VLOOKUP(A57,Table1[#All],11,0)="","-",VLOOKUP(A57,Table1[#All],11,0)),CHAR(10), "- ที่จดทะเบียนหย่า : ",IF(VLOOKUP(A57,Table1[#All],13,0)="","-",VLOOKUP(A57,Table1[#All],13,0)),CHAR(10), "- สถานที่ทำสัญญา : ",IF(VLOOKUP(A57,Table1[#All],15,0)="","-",VLOOKUP(A57,Table1[#All],15,0)),CHAR(10), "- ตามคำขอกู้ : ",IF(VLOOKUP(A57,Table1[#All],17,0)="","-",VLOOKUP(A57,Table1[#All],17,0))) -> #N/A | T57: =CONCATENATE(CHAR(10), IF(OR(VLOOKUP(A57,Table1[#All],5,0)="-",VLOOKUP(A57,Table1[#All],5,0)=""),"-",IF(VLOOKUP(A57,Table1[#All],4,0)=1,"พบ","ไม่พบ")),CHAR(10), IF(OR(VLOOKUP(A57,Table1[#All],7,0)="-",VLOOKUP(A57,Table1[#All],7,0)=""),"-",IF(VLOOKUP(A57,Table1[#All],6,0)=1,"พบ","ไม่พบ")),CHAR(10), IF(OR(VLOOKUP(A57,Table1[#All],9,0)="-",VLOOKUP(A57,Table1[#All],9,0)=""),"-",IF(VLOOKUP(A57,Table1[#All],8,0)=1,"พบ","ไม่พบ")),CHAR(10), IF(OR(VLOOKUP(A57,Table1[#All],11,0)="-",VLOOKUP(A57,Table1[#All],11,0)=""),"-",IF(VLOOKUP(A57,Table1[#All],10,0)=1,"พบ","ไม่พบ")),CHAR(10), IF(OR(VLOOKUP(A57,Table1[#All],13,0)="-",VLOOKUP(A57,Table1[#All],13,0)=""),"-",IF(VLOOKUP(A57,Table1[#All],12,0)=1,"พบ","ไม่พบ")),CHAR(10), IF(OR(VLOOKUP(A57,Table1[#All],15,0)="-",VLOOKUP(A57,Table1[#All],15,0)=""),"-",IF(VLOOKUP(A57,Table1[#All],14,0)=1,"พบ","ไม่พบ")),CHAR(10), IF(OR(VLOOKUP(A57,Table1[#All],17,0)="-",VLOOKUP(A57,Table1[#All],17,0)=""),"-",IF(VLOOKUP(A57,Table1[#All],16,0)=1,"พบ","ไม่พบ")),CHAR(10)) -> #N/A | X57: =CONCATENATE(CHAR(10),IF(OR(VLOOKUP(A57,Table1[#All],18,0)="ไม่พบ",VLOOKUP(A57,Table1[#All],18,0)="-"),"-",VLOOKUP(A57,Table1[#All],19,0))) -> #N/A
G58: 2. สำนักงานขนส่ง | U58: =IF(Sheet1!U48="พบ","R","£") -> £ | W58: พบ | AB58: =IF(Sheet1!U48="ไม่พบ","R","£") -> £ | AD58: ไม่พบ
A59: =IF(OR(Y18=0,Y18="-"),"ซ่อนช่อง",S18) -> ซ่อนช่อง | G59: =CONCATENATE("1. สำนักงานที่ดิน ดังนี้",CHAR(10), "- ณ ภูมิลำเนาแต่กำเนิด : ",IF(VLOOKUP(A59,Table1[#All],5,0)="","-",VLOOKUP(A59,Table1[#All],5,0)),CHAR(10), "- ณ ภูมิลำเนาปัจจุบัน : ",IF(VLOOKUP(A59,Table1[#All],7,0)="","-",VLOOKUP(A59,Table1[#All],7,0)),CHAR(10), "- ขณะทำสัญญา : ",IF(VLOOKUP(A59,Table1[#All],9,0)="","-",VLOOKUP(A59,Table1[#All],9,0)),CHAR(10), "- ที่จดทะเบียนสมรส : ",IF(VLOOKUP(A59,Table1[#All],11,0)="","-",VLOOKUP(A59,Table1[#All],11,0)),CHAR(10), "- ที่จดทะเบียนหย่า : ",IF(VLOOKUP(A59,Table1[#All],13,0)="","-",VLOOKUP(A59,Table1[#All],13,0)),CHAR(10), "- สถานที่ทำสัญญา : ",IF(VLOOKUP(A59,Table1[#All],15,0)="","-",VLOOKUP(A59,Table1[#All],15,0)),CHAR(10), "- ตามคำขอกู้ : ",IF(VLOOKUP(A59,Table1[#All],17,0)="","-",VLOOKUP(A59,Table1[#All],17,0))) -> #N/A | T59: =CONCATENATE(CHAR(10), IF(OR(VLOOKUP(A59,Table1[#All],5,0)="-",VLOOKUP(A59,Table1[#All],5,0)=""),"-",IF(VLOOKUP(A59,Table1[#All],4,0)=1,"พบ","ไม่พบ")),CHAR(10), IF(OR(VLOOKUP(A59,Table1[#All],7,0)="-",VLOOKUP(A59,Table1[#All],7,0)=""),"-",IF(VLOOKUP(A59,Table1[#All],6,0)=1,"พบ","ไม่พบ")),CHAR(10), IF(OR(VLOOKUP(A59,Table1[#All],9,0)="-",VLOOKUP(A59,Table1[#All],9,0)=""),"-",IF(VLOOKUP(A59,Table1[#All],8,0)=1,"พบ","ไม่พบ")),CHAR(10), IF(OR(VLOOKUP(A59,Table1[#All],11,0)="-",VLOOKUP(A59,Table1[#All],11,0)=""),"-",IF(VLOOKUP(A59,Table1[#All],10,0)=1,"พบ","ไม่พบ")),CHAR(10), IF(OR(VLOOKUP(A59,Table1[#All],13,0)="-",VLOOKUP(A59,Table1[#All],13,0)=""),"-",IF(VLOOKUP(A59,Table1[#All],12,0)=1,"พบ","ไม่พบ")),CHAR(10), IF(OR(VLOOKUP(A59,Table1[#All],15,0)="-",VLOOKUP(A59,Table1[#All],15,0)=""),"-",IF(VLOOKUP(A59,Table1[#All],14,0)=1,"พบ","ไม่พบ")),CHAR(10), IF(OR(VLOOKUP(A59,Table1[#All],17,0)="-",VLOOKUP(A59,Table1[#All],17,0)=""),"-",IF(VLOOKUP(A59,Table1[#All],16,0)=1,"พบ","ไม่พบ")),CHAR(10)) -> #N/A | X59: =CONCATENATE(CHAR(10),IF(OR(VLOOKUP(A59,Table1[#All],18,0)="ไม่พบ",VLOOKUP(A59,Table1[#All],18,0)="-"),"-",VLOOKUP(A59,Table1[#All],19,0))) -> #N/A
G60: 2. สำนักงานขนส่ง | U60: =IF(Sheet1!U50="พบ","R","£") -> £ | W60: พบ | AB60: =IF(Sheet1!U50="ไม่พบ","R","£") -> £ | AD60: ไม่พบ
B62: ความเห็น | F62: =IF(Sheet1!B33<>"","เห็นควรยึด","")
F63: =IF(Sheet1!B33<>"",Sheet1!B33,"")
F64: =IF(Sheet1!B33<>"",CONCATENATE(Sheet1!D33," ",IF(Sheet1!E33="ไม่พบ",Sheet1!E33,CONCATENATE(TEXT(Sheet1!E33,"#,##")," บาท ไม่รวมสิ่งปลูกสร้าง"))),"")
Y66: ขอแสดงความนับถือ
Y68: (นายอัครชัย จันทร์ขอนแก่น)
Y69: กรรมการผู้จัดการ
Y70: บริษัท อคธรรม จำกัด
Y328: 325

Sheet คำขอที่ดิน
AQ1: ท.ด. ๙
O3: คำขอ | R3: ตรวจสอบกรรมสิทธิ์ที่ดิน
A4: ที่สำนักงานที่ดินแห่งใดแห่งหนึ่งด้วยระบบสารสนเทศ
M5: ฉบับที่
AC6: สำนักงานที่ดิน | AD6: จังหวัดเชียงใหม่
X7: วันที่ | AA7: เดือน | AJ7: พุทธศักราช | AO7: 2568
D8: ข้าพเจ้า | G8: ธนาคารออมสิน | AB8: ผู้ขอ อายุ | AF8: =Sheet1!D8 -> 28 | AL8: เชื้อชาติ | AM8: ไทย
H9: =CONCATENATE("( โดย ",Sheet1!B8," (",TEXT(Sheet1!F8,"[$-,100]0-0000-00000-00-0"),") แทน )") -> ( โดย นายปฏิยุทธ์ ฟองแก้ว (1-5601-00415-10-9) แทน )
A10: สัญชาติ | D10: ไทย | I10: อยู่บ้านเลขที่ | N10: 470 | R10: หมู่ที่ | T10: - | X10: ถนน | Z10: พหลโยธิน | AH10: ตรอก/ซอย | AL10: -
A11: ตำบล/แขวง | F11: สามเสนใน | L11: อำเภอ/เขต | P11: พญาไท | X11: จังหวัด | AA11: กรุงเทพมหานคร | AH11: โทร | AJ11: 088-769-6476
A12: =CONCATENATE("ขอยื่นคำขอตรวจสอบหลักทรัพย์โดยขอให้พนักงานเจ้าหน้าที่ตรวจสอบในพื้นที่ความรับผิดชอบของ สำนักงานที่ดิน ",AS13," ด้วยระบบสารสนเทศและขอให้ถ้อยคำด้วยความสัตย์จริงว่า") -> ขอยื่นคำขอตรวจสอบหลักทรัพย์โดยขอให้พนักงานเจ้าหน้าที่ตรวจสอบในพื้นที่ความรับผิดชอบของ สำนักงานที่ดิน จังหวัดเชียงใหม่ ด้วยระบบสารสนเทศและขอให้ถ้อยคำด้วยความสัตย์จริงว่า | AS12: สำนักงานที่ดิน
AS13: จังหวัดเชียงใหม่
A14: =CONCATENATE(" ข้อ ๑. ด้วยข้าพเจ้าฯ เป็นเจ้าหนี้ (โจทก์) ตามคำพิพากษาของศาล",Sheet1!B5," ในคดีหมายเลขดำที่ ",Sheet1!D5," ในคดีหมายเลขแดงที่ ",Sheet1!F5," ลว.",TEXT(Sheet1!D4,"d ดดดด yyyy")," ขอรับรองว่า เป็นผู้มีสิทธิตรวจสอบหลักทรัพย์ได้ตามกฎหมาย มีความประสงค์ขอตรวจสอบหลักทรัพย์ของบุคคล / นิติบุคคล ดังต่อไปนี้") -> ข้อ ๑. ด้วยข้าพเจ้าฯ เป็นเจ้าหนี้ (โจทก์) ตามคำพิพากษาของศาลแขวงเชียงใหม่ ในคดีหมายเลขดำที่ ผบE372/2566 ในคดีหมายเลขแดงที่ ผบE2145/2566 ลว.18 เมษายน 2566 ขอรับรองว่า เป็นผู้มีสิทธิตรวจสอบหลักทรัพย์ได้ตามกฎหมาย มีความประสงค์ขอตรวจสอบหลักทรัพย์ของบุคคล / นิติบุคคล ดังต่อไปนี้
AS16: เลือกจำเลย | AT16: ซ่อนช่องไปทั้งหมด | AU16: =COUNTIF(C17:N32,"ซ่อนช่อง") -> 13 | AV16: ช่อง
C17: =IF(AS17="","ซ่อนช่อง",CONCATENATE("1. ",VLOOKUP(AS17,Table1[#All],2,0))) -> 1. นางสาวอนิสา สุวาท | P17: =IF(AS17="","",AS17) -> จำเลยที่ 1 | W17: =IF(AS17="","","เลขบัตรประชาชน") -> เลขบัตรประชาชน | AD17: =IF(AS17="","",VLOOKUP(AS17,Table1[#All],3,0)) -> 1-5099-01227-52-0 | AS17: จำเลยที่ 1
C18: =IF(AS18="","ซ่อนช่อง",CONCATENATE("2. ",VLOOKUP(AS18,Table1[#All],2,0))) -> 2. นางสาววราภรณ์ พรมสอาด | P18: =IF(AS18="","",AS18) -> จำเลยที่ 2 | W18: =IF(AS18="","","เลขบัตรประชาชน") -> เลขบัตรประชาชน | AD18: =IF(AS18="","",VLOOKUP(AS18,Table1[#All],3,0)) -> 1-6001-00474-62-7 | AS18: จำเลยที่ 2
C19: =IF(AS19="","ซ่อนช่อง",CONCATENATE("3. ",VLOOKUP(AS19,Table1[#All],2,0))) -> 3. นายอัครพล ยิ้มเกียรติ์ | P19: =IF(AS19="","",AS19) -> จำเลยที่ 3 | W19: =IF(AS19="","","เลขบัตรประชาชน") -> เลขบัตรประชาชน | AD19: =IF(AS19="","",VLOOKUP(AS19,Table1[#All],3,0)) -> 1-5306-00028-21-0 | AS19: จำเลยที่ 3
C20: =IF(AS20="","ซ่อนช่อง",CONCATENATE("4. ",VLOOKUP(AS20,Table1[#All],2,0))) -> ซ่อนช่อง | P20: =IF(AS20="","",AS20) | W20: =IF(AS20="","","เลขบัตรประชาชน") | AD20: =IF(AS20="","",VLOOKUP(AS20,Table1[#All],3,0))
C21: =IF(AS21="","ซ่อนช่อง",CONCATENATE("5. ",VLOOKUP(AS21,Table1[#All],2,0))) -> ซ่อนช่อง | P21: =IF(AS21="","",AS21) | W21: =IF(AS21="","","เลขบัตรประชาชน") | AD21: =IF(AS21="","",VLOOKUP(AS21,Table1[#All],3,0))
C22: =IF(AS22="","ซ่อนช่อง",CONCATENATE("6. ",VLOOKUP(AS22,Table1[#All],2,0))) -> ซ่อนช่อง | P22: =IF(AS22="","",AS22) | W22: =IF(AS22="","","เลขบัตรประชาชน") | AD22: =IF(AS22="","",VLOOKUP(AS22,Table1[#All],3,0))
C23: =IF(AS23="","ซ่อนช่อง",CONCATENATE("7. ",VLOOKUP(AS23,Table1[#All],2,0))) -> ซ่อนช่อง | P23: =IF(AS23="","",AS23) | W23: =IF(AS23="","","เลขบัตรประชาชน") | AD23: =IF(AS23="","",VLOOKUP(AS23,Table1[#All],3,0))
C24: =IF(AS24="","ซ่อนช่อง",CONCATENATE("8. ",VLOOKUP(AS24,Table1[#All],2,0))) -> ซ่อนช่อง | P24: =IF(AS24="","",AS24) | W24: =IF(AS24="","","เลขบัตรประชาชน") | AD24: =IF(AS24="","",VLOOKUP(AS24,Table1[#All],3,0))
C25: =IF(AS25="","ซ่อนช่อง",CONCATENATE("9. ",VLOOKUP(AS25,Table1[#All],2,0))) -> ซ่อนช่อง | P25: =IF(AS25="","",AS25) | W25: =IF(AS25="","","เลขบัตรประชาชน") | AD25: =IF(AS25="","",VLOOKUP(AS25,Table1[#All],3,0))
C26: =IF(AS26="","ซ่อนช่อง",CONCATENATE("10. ",VLOOKUP(AS26,Table1[#All],2,0))) -> ซ่อนช่อง | P26: =IF(AS26="","",AS26) | W26: =IF(AS26="","","เลขบัตรประชาชน") | AD26: =IF(AS26="","",VLOOKUP(AS26,Table1[#All],3,0))
C27: =IF(AS27="","ซ่อนช่อง",CONCATENATE("11. ",VLOOKUP(AS27,Table1[#All],2,0))) -> ซ่อนช่อง | P27: =IF(AS27="","",AS27) | W27: =IF(AS27="","","เลขบัตรประชาชน") | AD27: =IF(AS27="","",VLOOKUP(AS27,Table1[#All],3,0))
C28: =IF(AS28="","ซ่อนช่อง",CONCATENATE("12. ",VLOOKUP(AS28,Table1[#All],2,0))) -> ซ่อนช่อง | P28: =IF(AS28="","",AS28) | W28: =IF(AS28="","","เลขบัตรประชาชน") | AD28: =IF(AS28="","",VLOOKUP(AS28,Table1[#All],3,0))
C29: =IF(AS29="","ซ่อนช่อง",CONCATENATE("13. ",VLOOKUP(AS29,Table1[#All],2,0))) -> ซ่อนช่อง | P29: =IF(AS29="","",AS29) | W29: =IF(AS29="","","เลขบัตรประชาชน") | AD29: =IF(AS29="","",VLOOKUP(AS29,Table1[#All],3,0))
C30: =IF(AS30="","ซ่อนช่อง",CONCATENATE("14. ",VLOOKUP(AS30,Table1[#All],2,0))) -> ซ่อนช่อง | P30: =IF(AS30="","",AS30) | W30: =IF(AS30="","","เลขบัตรประชาชน") | AD30: =IF(AS30="","",VLOOKUP(AS30,Table1[#All],3,0))
C31: =IF(AS31="","ซ่อนช่อง",CONCATENATE("15. ",VLOOKUP(AS31,Table1[#All],2,0))) -> ซ่อนช่อง | P31: =IF(AS31="","",AS31) | W31: =IF(AS31="","","เลขบัตรประชาชน") | AD31: =IF(AS31="","",VLOOKUP(AS31,Table1[#All],3,0))
C32: =IF(AS32="","ซ่อนช่อง",CONCATENATE("16. ",VLOOKUP(AS32,Table1[#All],2,0))) -> ซ่อนช่อง | P32: =IF(AS32="","",AS32) | W32: =IF(AS32="","","เลขบัตรประชาชน") | AD32: =IF(AS32="","",VLOOKUP(AS32,Table1[#All],3,0))
D34: ข้อ ๒. | G34: ฉะนั้นขอให้เจ้าหน้าที่พนักงานที่ดิน | S34: ได้โปรดพิจารณาตรวจสอบกรรมสิทธิ์ที่ดินบุคคลดังกล่าวให้ด้วย โดยข้าพเจ้า
A35: ยินยอมชำระค่าธรรมเนียมตามระเบียบ และขอให้จัดหาเจ้าหน้าที่ลงชื่อเป็นพยานให้ปรากฎลงในคำขอนี้ด้วย
J36: ลงชื่อ | U36: =CONCATENATE("(",TEXT(Sheet1!F8,"[$-,100]0-0000-00000-00-0"),") ผู้ขอ (แทนตามมอบ ลว. ",TEXT(Sheet1!B9,"d ดดดด yyyy"),")") -> (1-5601-00415-10-9) ผู้ขอ (แทนตามมอบ ลว. 21 ตุลาคม 2567)
J37: ลงชื่อ | AA37: พยาน / ผู้บันทึก
J38: ลงชื่อ | AA38: พยาน
A40: เรียน | C40: หัวหน้าฝ่ายทะเบียน
C41: =CONCATENATE("ผู้ขอมีประสงค์ของตรวจสอบทลักทรัพย์ด้วยระบบสารสนเทศ ของบุคคล / นิติบุคคล จำนวน ",ROWS(AS17:AS32)-COUNTIF(AS17:AS32,"")," ราย") -> ผู้ขอมีประสงค์ของตรวจสอบทลักทรัพย์ด้วยระบบสารสนเทศ ของบุคคล / นิติบุคคล จำนวน 3 ราย
A42: ตรวจสอบแล้วพบว่า ผู้ขอเป็นผู้มีสิทธิ์ตามกฎหมายมาตรา ๒๔ (๘) แห่ง พ.ร.บ. ข้อมูลข่าวสารฯ ๒๕๔๐
A43: ที่จะตรวจสอบหลักทรัพย์ดังกล่าวได้เพราะ | V43: เปิดเผยข้อมูล
C44: เห็นควรรับคำขอ
A46: ข้าได้รับทราบรายงาน รายการผลการ
A47: ตรวจสอบหลักทรัพย์แล้ว

Sheet คำขอขนส่ง
AA2: คำขอที่
AA3: รับวันที่
AA4: ผู้รับ
A7: กรมขนส่งทางบก
A8: แบบคำขออื่น
V10: วันที่ | Z10: เดือน | AH10: พ.ศ.
A11: เรียน | D11: นายทะเบียน
D12: ข้าพเจ้า | G12: =CONCATENATE("ธนาคารออมสิน โดย ",Sheet1!B8," ผู้รับมอบอำนาจช่วง") -> ธนาคารออมสิน โดย นายปฏิยุทธ์ ฟองแก้ว ผู้รับมอบอำนาจช่วง | AE12: อายุ | AG12: =Sheet1!D8 -> 28 | AJ12: ปี
A13: สัญชาติ | D13: ไทย | H13: อยู่บ้านเลขที่ | L13: 470 | P13: หมู่ที่ | R13: - | T13: ซอย | V13: - | AC13: ถนน | AE13: พหลโยธิน
A14: อำเภอ | D14: พญาไท | L14: จังหวัด | O14: กรุงเทพมหานคร | Z14: โทร | AB14: 086-7062798
A15: และขอรับรองว่าจะปฏิบัติตามกฎหมายที่เกี่ยวข้องกับการใช้ทาง การจราจร ค่าผ่านทาง ค่าปรับและค่าธรรมเนียมต่างๆ ที่เกิด
A16: ขึ้นจากการใช้รถของตัวเอง หรือให้บุคคลอื่นใช้รถ
A17: =CONCATENATE(" มีความประสงค์ขอตรวจสอบกรรมสิทธิ์และสิทธิครอบครองของรถยนต์ รถจักรยานยนต์โดยขอคัดถ่ายเอกสารและรับรอบ","ความถูกต้อง เพื่อนำไปประกอบการพิจารณาดำเนินคดีลูกหนี้ตามคำพิพากษาในคดี ของศาล",Sheet1!B5," ในคดีหมายเลขคดีดำที่ ",Sheet1!D5," คดีหมายเลขแดงที่ ",Sheet1!F5," ของบุคคลดังต่อไปนี้") -> มีความประสงค์ขอตรวจสอบกรรมสิทธิ์และสิทธิครอบครองของรถยนต์ รถจักรยานยนต์โดยขอคัดถ่ายเอกสารและรับรอบความถูกต้อง เพื่อนำไปประกอบการพิจารณาดำเนินคดีลูกหนี้ตามคำพิพากษาในคดี ของศาลแขวงเชียงใหม่ ในคดีหมายเลขคดีดำที่ ผบE372/2566 คดีหมายเลขแดงที่ ผบE2145/2566 ของบุคคลดังต่อไปนี้
AN20: เลือกคน
A21: =CONCATENATE("1. ",VLOOKUP(AN21,Table1[#All],2,0)) -> 1. นางสาวอนิสา สุวาท | Q21: เลขบัตรประจำตัวประชาชน | Z21: =VLOOKUP(AN21,Table1[#All],3,0) -> 1-5099-01227-52-0 | AN21: จำเลยที่ 1
F22: .
A23: พร้อมนี้ได้แนบหลักฐานประกอบคำขอ ดังนี้
A24: 1. | D24: หนังสือมอบอำนาจช่วง | V24: 2. | Y24: สำเนาคำพิพากษา
A25: 3. | V25: 4.
V28: ลงชื่อ | AH28: ผู้ยื่นคำขอ
X29: =CONCATENATE("( ",Sheet1!B8," )") -> ( นายปฏิยุทธ์ ฟองแก้ว )

Sheet ใบบะหน้าสำนวน
J5: คดีหมายเลขดำที่ | L5: =#REF! -> #REF!
J6: คดีหมายเลขแดงที่
G8: =#REF! -> #REF!
G9: ความ | H9: แพ่ง
F11: ธนาคารอิสลามแห่งประเทศไทย ฯ | N11: โจทก์
E12: ระหว่าง
F13: =ปกสำนวน!$C$10 -> นางสาวสิริพิชญ์ ใจหมั่น | N13: จำเลย
D15: ข้อหาหรือฐานความผิด | F15: ผิดสัญญาสินเชื่ออเนกประสงค์ , ค้ำประกัน , เรียกค่าเสียหาย
D17: จำนวนทุนทรัพย์ | F17: =#REF! -> #REF! | H17: บาท
D19: ฟ้องวันที่ | F19: =#REF! -> #REF! | H19: นำหมายวันที่ | K19: =$F$19 -> #REF!
D21: ยื่นคำให้การวันที่ | H21: ผู้พิพากษา / บัลลังก์
D23: ยื่นบัญชีระบุพยานวันที่ | F23: =#REF! -> #REF! | H23: ทนายความ | K23: =ปกสำนวน!$S$7 -> นายจิรวัฒน์ ตรีเศียร
D25: กำหนดการ
D26: 1 | E26: นัดไกล่เกลี่ยและนัดสืบพยาน | G26: วันที่ | H26: =#REF! -> #REF! | K26: เวลา | M26: =#REF! -> #REF!
D27: 2 | G27: วันที่ | K27: เวลา
D28: 3 | G28: วันที่ | K28: เวลา
D29: 4 | G29: วันที่ | K29: เวลา
D30: 5 | G30: วันที่ | K30: เวลา
D32: คำพิพากษาย่อ
D39: หมายเหตุ

Sheet แบบฟอร์ม CheckList
D1: ชื่อลูกหนี้ / Customer Name. | F1: =#REF! -> #REF!
D2: รหัสลูกหนี้ / CIF No. | F2: =#REF! -> #REF!
A4: ลำดับ | B4: เอกสาร | C4: สถานะเอกสาร | E4: รูปแบบเอกสาร
A5: 5. เอกสารอื่นๆ | F5: ประเภท | G5: เลขที่อ้างอิง
A6: 5.1 | B6: เอกสารใด ๆ ที่จัดทำขึ้นเตื่อติดตามทวงถามหนี้ | C6: þ | D6: ส่งมอบ | E6: o | F6: ต้นฉบับ
B7: หรือเพื่อความสะดวกในการติดตามทวงถามหนี้ | C7: o | D7: ไม่มี | E7: þ | F7: สำเนา
C8: o | D8: ไม่สามารถส่งมอบ | E8: o | F8: อื่น ๆ (โปรดระบุ)
D9: เนื่องจาก___________________ | F9: _________________________
A10: 5.2 | B10: เอกสารที่เกี่ยวข้องกับการดำเนินคดี | C10: þ | D10: ส่งมอบ | E10: o | F10: ต้นฉบับ
B11: (1) คำฟ้อง | C11: o | D11: ไม่มี | E11: þ | F11: สำเนา
C12: o | D12: ไม่สามารถส่งมอบ | E12: o | F12: อื่น ๆ (โปรดระบุ)
D13: เนื่องจาก___________________ | F13: _________________________
B14: (2) คำให้การ | C14: o | D14: ส่งมอบ | E14: o | F14: ต้นฉบับ
C15: þ | D15: ไม่มี | E15: o | F15: สำเนา
C16: o | D16: ไม่สามารถส่งมอบ | E16: o | F16: อื่น ๆ (โปรดระบุ)
D17: เนื่องจาก___________________ | F17: _________________________
B18: (3) คำพิพากษาในคดีแพ่ง และ/หรือคดีอาญา | C18: o | D18: ส่งมอบ | E18: o | F18: ต้นฉบับ
B19: ที่เกี่ยวข้องกับหนี้ | C19: þ | D19: ไม่มี | E19: o | F19: สำเนา
C20: o | D20: ไม่สามารถส่งมอบ | E20: o | F20: อื่น ๆ (โปรดระบุ)
D21: เนื่องจาก___________________ | F21: _________________________
B22: (4) คำร้องขอให้ล้มละลาย | C22: o | D22: ส่งมอบ | E22: o | F22: ต้นฉบับ
C23: þ | D23: ไม่มี | E23: o | F23: สำเนา
C24: o | D24: ไม่สามารถส่งมอบ | E24: o | F24: อื่น ๆ (โปรดระบุ)
D25: เนื่องจาก___________________ | F25: _________________________
B26: (5) คำร้องขอฟื้นฟูกิจการ | C26: o | D26: ส่งมอบ | E26: o | F26: ต้นฉบับ
C27: þ | D27: ไม่มี | E27: o | F27: สำเนา
C28: o | D28: ไม่สามารถส่งมอบ | E28: o | F28: อื่น ๆ (โปรดระบุ)
D29: เนื่องจาก___________________ | F29: _________________________
B30: (6) ประกาศของเจ้าพนักงานพิทักษ์ทรัพย์ | C30: o | D30: ส่งมอบ | E30: o | F30: ต้นฉบับ
B31: เกี่ยวกับการจำหน่ายทรัพย์สิน | C31: þ | D31: ไม่มี | E31: o | F31: สำเนา
C32: o | D32: ไม่สามารถส่งมอบ | E32: o | F32: อื่น ๆ (โปรดระบุ)
D33: เนื่องจาก___________________ | F33: _________________________
B34: (7) ประกาศของเจ้าพนักงานบังคับคดี | C34: o | D34: ส่งมอบ | E34: o | F34: ต้นฉบับ
B35: เกี่ยวกับการจำหน่ายทรัพย์สิน | C35: þ | D35: ไม่มี | E35: o | F35: สำเนา
C36: o | D36: ไม่สามารถส่งมอบ | E36: o | F36: อื่น ๆ (โปรดระบุ)
D37: เนื่องจาก___________________ | F37: _________________________
B38: (8) อื่น ๆ (ถ้ามี) | C38: o | D38: ส่งมอบ | E38: o | F38: ต้นฉบับ
B39: 8.1 ............................................................................... | C39: þ | D39: ไม่มี | E39: o | F39: สำเนา
B40: 8.2 ............................................................................... | C40: o | D40: ไม่สามารถส่งมอบ | E40: o | F40: อื่น ๆ (โปรดระบุ)
D41: เนื่องจาก___________________ | F41: _________________________

Sheet ใบปะหน้าค่าธรรมเนียมศาล
A6: ที่ | C6: =#REF! -> #REF! | D6: / 2560
J7: วันที่ | K7: =ค่าธรรมเนียมศาล!$S$8 -> #REF!
A8: เรื่อง | C8: ขอเบิกค่าธรรมเนียมศาล ลูกหนี้รายลูกหนี้ราย | I8: =#REF! -> #REF!
A9: เรียน | C9: ผู้จัดการส่วนดำเนินคดีและบังคับคดีสินเชื่อรายย่อย (คุณไพโรจน์ เรืองปราชญ์)
A10: ผ่าน | C10: ส่วนสืบทรัพย์และดูแลการขาย ฝ่ายกฎหมาย (คุณเพ็ชร แถววงษ์)
A11: สิ่งที่แนบมาด้วย
C12: 1. สำเนาคำฟ้อง
C13: 2. ตารางคำนวณภาระหนี้
B15: ตามที่ธนาคารอิสลามแห่งประเทศไทย ได้มอบหมายให้ บริษัท อคธรรม จำกัด ดำเนินคดีกับลูกหนี้ของธนาคารฯ
A16: ทางบริษัทฯ ได้ดำเนินการจัดเตรียมเอกสารในการฟ้องคดีลูกหนี้ซึ่งอยู่ในความรับผิดชอบของบริษัทฯ เรียบร้อยแล้ว
B17: บริษัทฯ จึงขอเบิกค่าธรรมเนียมศาล เพื่อยื่นฟ้องคดีต่อศาล โดยมีรายละเอียดดังนี้
B19: ชื่อลูกหนี้ | F19: วันที่ฟ้อง | I19: ศาล | L19: ค่าธรรมเนียม (บาท)
B20: =$I$8 -> #REF! | F20: =#REF! -> #REF! | I20: =#REF! -> #REF! | L20: =#REF! -> #REF!
B21: รวมเป็นเงิน | L21: =SUM(L20) -> #REF!
B23: ดังนั้นบริษัทฯ ขอให้ธนาคารฯ ดำเนินการออกแคชเชียร์เช็ค รายละเอียดปรากฏตามคำขอเบิกค่าธรรมเนียมศาล
A24: ที่แนบมาพร้อมนี้
B25: จึงเรียนมาเพื่อทราบโปรดพิจารณาอนุมัติ
K28: ขอแสดงความนับถือ
K30: ______________________________________
K31: ( นายอัครชัย จันทร์ขอนแก่น )
K32: กรรมการผุ้จัดการ
K33: บริษัท อคธรรม จำกัด

Sheet ค่าธรรมเนียมศาล
A5: ใบเบิกค่าฤชาธรรมเนียมศาล/บังคับคดี
A6: (สำหรับค่าใช้จ่าย ไม่หัก ภาษี ณ ที่จ่าย)
O7: เลขที่ | V7: =ใบปะหน้าค่าธรรมเนียมศาล!$C$6 -> #REF! | W7: / 2560
O8: วันที่ | S8: =#REF! -> #REF!
A9: ศาล | C9: =#REF! -> #REF! | M9: คดีหมายเลขดำ/แดง ที่ | U9: -
A10: ฝ่าย / สาขา | E10: =#REF! -> #REF! | L10: þ | M10: แพ่ง | O10: o | P10: อาญา | R10: o | S10: อื่นๆ
A11: เลขที่ลูกหนี้ | E11: =#REF! -> #REF! | L11: ชื่อลูกหนี้ | O11: =#REF! -> #REF!
A12: ชื่อสำนักงาน | E12: บริษัท อคธรรม จำกัด | M12: ขอเบิกค่าใช้จ่ายต่างๆ ของลูกหนี้รายข้างต้น
A14: ประเภทหนี้ | J14: สาขา | R14: ทุนทรัพย์
A15: สินเชื่ออเนกประสงค์ | J15: =$E$10 -> #REF! | R15: =#REF! -> #REF!
A18: รวม | R18: =SUM(R15:Y17) -> #REF!
A19: ออกแคชเชียร์เช็ค ธนาคารอิสลามแห่งประเทศไทย เลขที่ | P19: สาขา | X19: สั่งจ่าย
A20: ในนามศาล | D20: =$C$9 -> #REF! | J20: วันที่ฟ้อง | M20: =#REF! -> #REF! | P20: จำนวนเงิน | S20: =$R$18 -> #REF! | X20: บาท หรือ
A21: โดยโอนเงินเข้าบัญชี | L21: ชื่อบัญชี
A22: เลขที่บัญชี | J22: สาขา | Q22: เพื่อเป็นค่าใช้จ่ายๆ ดังรายละเอียดดังนี้.-
A24: รายการ | P24: เลขที่บัญชี | U24: จำนวนเงิน
A26: þ | B26: ค่าขึ้นศาล 2% | U26: =#REF! -> #REF!
A27: o | B27: ค่าประกาศหนังสือพิมพ์
A28: o | B28: ค่าธรรมเนียมบังคับคดี | G28: o | H28: ตั้งเรื่องนำยึด | K28: o | L28: ประกาศขายทอดตลาด
A29: o | B29: ค่าธรรมเนียม อื่นๆ
A30: o | B30: ค่าธรรมเนียม อื่นๆ
A31: หมายเหตุ
A32: รวมเงิน | D32: ="- ("&BAHTTEXT($U$32)&") -" -> #REF! | U32: =SUM(U26:$Y$30) -> #REF!
A34: ผู้เบิกเงิน (สนง.ทนายความ) | F34: ผู้รับเงิน (สนง.ทนายความ) | K34: ผู้ตรวจ (งานคดีฝ่ายกม.) | P34: ผู้ตรวจ (งานคดีฝ่ายกม.) | U34: ผู้อนุมัติเบิก (งานคดีฝ่ายกม.)
C36: _______________ | H36: _______________ | M36: _______________ | R36: _______________ | W36: _______________
A37: (นายอัครชัย จันทร์ขอนแก่น) | F37: (นายอัครชัย จันทร์ขอนแก่น) | K37: (..................................) | R37: _______________ | U37: (..................................)
A38: วันที่ | F38: วันที่ | K38: วันที่ | P38: วันที่ | U38: วันที่

Sheet ใบเสร็จค่าทำเนียมศาล
A1: ใบเสร็จค่าธรรมเนียมศาล
C3: Customer Name : | E3: =#REF! -> #REF!
C4: CIF No. : | E4: =#REF! -> #REF!
A35: ใบเสร็จค่านำหมาย/ส่งคำคู่ความ
B37: Customer Name : | D37: =#REF! -> #REF!
B38: CIF No. : | D38: =#REF! -> #REF!

Sheet ใบปะหน้าค่าใช้จ่าย
A6: ที่ | C6: =#REF! -> #REF! | D6: / 2560
J7: วันที่ | K7: =ค่าธรรมเนียมศาล!$S$8 -> #REF!
A8: เรื่อง | C8: ขอเบิกค่าวิชาชีพและค่าใช้จ่ายลูกหนี้ราย | H8: =#REF! -> #REF!
A9: เรียน | C9: ผู้อำนวยการฝ่ายกฎหมาย (คุณชาญวิทย์ ตรังพานิชย์)
A10: ผ่าน | C10: ผู้จัดการส่วนดำเนินคดีและบังคับคดีสินเชื่อรายย่อย (คุณไพโรจน์ เรืองปราชญ์)
A11: สำเนา | C11: ส่วนสืบทรัพย์และดูแลการขาย ฝ่ายกฎหมาย (คุณเพ็ชร แถววงษ์)
A12: สิ่งที่แนบมาด้วย
C13: 1. สำเนาคำฟ้อง
C14: 2. ใบเบิกค่าวิชาชีพและค่าใช้จ่าย
C15: 3. ใบเสร็จรับเงิน
C16: 4. ใบเสร็จค่าธรรมเนียมศาล
B18: ตามที่ธนาคารอิสลามแห่งประเทศไทย ได้มอบหมายให้ บริษัท อคธรรม จำกัด ดำเนินคดีกับลูกหนี้ของธนาคารฯ ทางบริษัทฯ
A19: ได้ดำเนินการยื่นฟ้องลูกหนี้เป็นที่เรียบร้อยแล้ว
B20: ต่อศาล | C20: =#REF! -> #REF! | F20: เป็นคดีหมายเลขดำที่ | I20: =#REF! -> #REF! | K20: นัดไกล่เกลี่ย/สืบพยาน | N20: =#REF! -> #REF!
A21: เวลา | B21: =#REF! -> #REF!
B22: รายละเอียดตามสิ่งที่แนบมาด้วย บริษัทฯ จึงขอเบิกค่าวิชาชีพและค่าใช้จ่าย ดังต่อไปนี้
C24: ลำดับ | D24: รายการ | L24: จำนวนเงิน (บาท)
C25: 1 | D25: ค่าวิชาชีพ งวดที่ 1 | G25: (40%) | H25: จาก | I25: =#REF! -> #REF! | L25: =#REF! -> #REF!
C26: 2 | D26: ค่านำหมาย/ส่งคำคู่ความ | L26: =IF(#REF!>701,#REF!,2000) -> #REF!
I28: รวมเป็นเงินทั้งสิ้น
G29: ="- ("&BAHTTEXT($L$29)&") -" -> #REF! | L29: =SUM(L25:N28) -> #REF!
C31: จึงเรียนมาเพื่อโปรดพิจารณาอนุมัติ
K33: ขอแสดงความนับถือ
K35: ______________________________________
K36: ( นายอัครชัย จันทร์ขอนแก่น )
K37: กรรมการผู้จัดการ
K38: บริษัท อคธรรม จำกัด
